BEGIN:VCALENDAR
VERSION:2.0
PRODID:-//ChamberMaster//Event Calendar 2.0//EN
METHOD:PUBLISH
X-PUBLISHED-TTL:P3D
REFRESH-INTERVAL:P3D
CALSCALE:GREGORIAN
BEGIN:VEVENT
DTSTART:20190514T220000Z
DTEND:20190515T000000Z
X-MICROSOFT-CDO-ALLDAYEVENT:FALSE
SUMMARY:Breaking The Stigma Lecture Series 5/14
DESCRIPTION:Join us for an in-depth behavioral Health lecture series featuring Gregory Weiss M.D. during the month of May. Each week Dr. Weiss will be covering tough topics and outlining the many resources and avenues for assistance that Sentara Behavioral Health Specialists can provide. Mental Health care is an important part of our community and we are breaking the Stigma!\n\n\n\nMay 7\, 14\, & 21 at 6 PM
X-ALT-DESC;FMTTYPE=text/html:Join us for an in-depth behavioral Health lecture series featuring Gregory Weiss M.D. during the month of May. Each week Dr. Weiss will be covering tough topics and outlining the many resources and avenues for assistance that Sentara Behavioral Health Specialists can provide. Mental Health care is an important part of our community and we are breaking the Stigma!<br />\n<br />\nMay 7\, 14\, &amp\; 21 at 6 PM<br />\n&nbsp\;
LOCATION:Chastin Theater at The Prizery 700 Bruce Street South Boston\, VA 24592
UID:e.845.12426
SEQUENCE:3
DTSTAMP:20260421T062454Z
URL:https://business.halifaxchamber.net/events/details/breaking-the-stigma-lecture-series-5-14-12426
END:VEVENT

END:VCALENDAR
