BEGIN:VCALENDAR
VERSION:2.0
PRODID:-//ChamberMaster//Event Calendar 2.0//EN
METHOD:PUBLISH
X-PUBLISHED-TTL:P3D
REFRESH-INTERVAL:P3D
CALSCALE:GREGORIAN
BEGIN:VEVENT
DTSTART:20191022T220000Z
DTEND:20191022T220000Z
X-MICROSOFT-CDO-ALLDAYEVENT:FALSE
SUMMARY:Breast Cancer Awareness - Ladies Night Out Dinner
DESCRIPTION:Join Sentara Halifax Regional Hospital for a delicious and informative dinner in honor of Breast Cancer Awareness Month.\n\nEnjoy a buffet-style meal as speakers outline the risks and symptoms associated with breast cancer\, as well as prevention and treatment options available.\n\n\n\nSpeakers:\n\nSameer Alrefai\, M.D.\, General Surgeon\, Sentara Halifax General Surgery\n\nBoris Darovsky\, M.D.\, Sentara Southside Hematology & Oncology
X-ALT-DESC;FMTTYPE=text/html:Join Sentara Halifax Regional Hospital for a delicious and informative dinner in honor of Breast Cancer Awareness Month.<br />\nEnjoy a buffet-style meal as speakers outline the risks and symptoms associated with breast cancer\, as well as prevention and treatment options available.<br />\n<br />\nSpeakers:<br />\nSameer Alrefai\, M.D.\, General Surgeon\, Sentara Halifax General Surgery<br />\nBoris Darovsky\, M.D.\, Sentara Southside Hematology &amp\; Oncology
LOCATION:The Prizery 700 Bruce Street South Boston\, VA 24592
UID:e.845.13435
SEQUENCE:3
DTSTAMP:20260420T234350Z
URL:https://business.halifaxchamber.net/events/details/breast-cancer-awareness-ladies-night-out-dinner-13435
END:VEVENT

END:VCALENDAR
