BEGIN:VCALENDAR
VERSION:2.0
PRODID:-//ChamberMaster//Event Calendar 2.0//EN
METHOD:PUBLISH
X-PUBLISHED-TTL:P3D
REFRESH-INTERVAL:P3D
CALSCALE:GREGORIAN
BEGIN:VEVENT
DTSTART:20171019T220000Z
DTEND:20171020T000000Z
X-MICROSOFT-CDO-ALLDAYEVENT:FALSE
SUMMARY:Breast Cancer Awareness Ladies Night Out Dinner
DESCRIPTION:Join Sentara Halifax Regional as they host a delicious and informative dinner in honor of Breast Cancer Awareness Month.\n\n\n\nEnjoy a buffet-style meal as the speakers outline the risks and symptoms associated with breast cancer\, as well as prevention and treatment options available. \n\n\n\nSpeakers:\n\nCarlos Pottinger\, MD\n\nSameer Alrefai\, MD\n\nMichelle Gibson\, NP\n\n\n\nAttendance is free and space is limited.\n\nRegistration is required at (434) 517-3538
X-ALT-DESC;FMTTYPE=text/html:Join Sentara&nbsp\;Halifax Regional as they host a delicious and informative dinner in honor of Breast Cancer Awareness Month.<br />\n<br />\nEnjoy a buffet-style meal as the speakers outline the risks and symptoms associated with breast cancer\, as well as prevention and treatment options available.&nbsp\;<br />\n<br />\nSpeakers:<br />\nCarlos Pottinger\, MD<br />\nSameer Alrefai\, MD<br />\nMichelle Gibson\, NP<br />\n<br />\nAttendance&nbsp\;is free and space is limited.<br />\nRegistration is required at (434) 517-3538
LOCATION:Leggett Auditorium at Sentara Halifax Regional Hospital 2204 Wilborn Avenue South Boston\, VA
UID:e.845.7133
SEQUENCE:3
DTSTAMP:20260422T140045Z
URL:https://business.halifaxchamber.net/events/details/breast-cancer-awareness-ladies-night-out-dinner-7133
END:VEVENT

END:VCALENDAR
