BEGIN:VCALENDAR
VERSION:2.0
PRODID:-//ChamberMaster//Event Calendar 2.0//EN
METHOD:PUBLISH
X-PUBLISHED-TTL:P3D
REFRESH-INTERVAL:P3D
CALSCALE:GREGORIAN
BEGIN:VEVENT
DTSTART:20181108T190000Z
DTEND:20181109T000000Z
X-MICROSOFT-CDO-ALLDAYEVENT:FALSE
SUMMARY:Brew & Que
DESCRIPTION:Davenport Energy invite you to join them at Brew & Que December 8\, 2018. \n\nProceeds benefit the Boys and Girls Cluvs of the Danville Area. \n\nTickets include competition BBQ plate and 9 tasting tickets with glass.
X-ALT-DESC;FMTTYPE=text/html:Davenport Energy invite you to join them at Brew &amp\; Que December 8\, 2018.&nbsp\;<br />\nProceeds benefit the Boys and Girls Cluvs of the Danville Area.&nbsp\;<br />\nTickets include competition BBQ plate and 9 tasting tickets with glass.&nbsp\;
LOCATION:Virginia International Raceway 1245 Pine Tree Road\, Alton\, VA
UID:e.845.8600
SEQUENCE:3
DTSTAMP:20260421T170950Z
URL:https://business.halifaxchamber.net/events/details/brew-que-8600
END:VEVENT

END:VCALENDAR
