BEGIN:VCALENDAR
VERSION:2.0
PRODID:-//ChamberMaster//Event Calendar 2.0//EN
METHOD:PUBLISH
X-PUBLISHED-TTL:P3D
REFRESH-INTERVAL:P3D
CALSCALE:GREGORIAN
BEGIN:VEVENT
DTSTART:20200119T013000Z
DTEND:20200119T053000Z
X-MICROSOFT-CDO-ALLDAYEVENT:FALSE
SUMMARY:Brown Brothers at Badeaux's Seafood Grill and Bar
DESCRIPTION:Come enjoy the Brown Brothers live at Badeaux's on Saturday\, January 18th at 8:30pm.
X-ALT-DESC;FMTTYPE=text/html:Come enjoy the Brown Brothers live at Badeaux&#39\;s on Saturday\, January 18th at 8:30pm.
LOCATION:2001 Seymour Drive South Boston\, VA 24592
UID:e.845.15635
SEQUENCE:3
DTSTAMP:20260420T165715Z
URL:https://business.halifaxchamber.net/events/details/brown-brothers-at-badeaux-s-seafood-grill-and-bar-15635
END:VEVENT

END:VCALENDAR
