BEGIN:VCALENDAR
VERSION:2.0
PRODID:-//ChamberMaster//Event Calendar 2.0//EN
METHOD:PUBLISH
X-PUBLISHED-TTL:P3D
REFRESH-INTERVAL:P3D
CALSCALE:GREGORIAN
BEGIN:VEVENT
DTSTART:20170707T220000Z
DTEND:20170708T010000Z
X-MICROSOFT-CDO-ALLDAYEVENT:FALSE
SUMMARY:Brown Brothers at Springfield Distillery
DESCRIPTION:Brown Brothers at Springfield Distillery Friday\, July 7 from 6-9PM.
X-ALT-DESC;FMTTYPE=text/html:Brown Brothers at Springfield Distillery Friday\, July 7 from 6-9PM.
LOCATION:Springfield Distillery 9040 River Road Halifax\, VA
UID:e.845.7017
SEQUENCE:3
DTSTAMP:20260422T194245Z
URL:https://business.halifaxchamber.net/events/details/brown-brothers-at-springfield-distillery-7017
END:VEVENT

END:VCALENDAR
