BEGIN:VCALENDAR
VERSION:2.0
PRODID:-//ChamberMaster//Event Calendar 2.0//EN
METHOD:PUBLISH
X-PUBLISHED-TTL:P3D
REFRESH-INTERVAL:P3D
CALSCALE:GREGORIAN
BEGIN:VEVENT
DTSTART:20190119T160000Z
DTEND:20190119T190000Z
X-MICROSOFT-CDO-ALLDAYEVENT:FALSE
SUMMARY:Brunswick Stew Fundraiser Special Olympics Polar Plunge
DESCRIPTION:Brunswick Stew Fundraiser. Proceeds from the event will benefit Special Olympics Virginia. For pre-orders call Catherine at 434-517-1001 or Stephanie at 434-272-9479\n\n\n\nStew cooked by Randy Spainhour
X-ALT-DESC;FMTTYPE=text/html:Brunswick Stew Fundraiser. Proceeds from the event will benefit Special Olympics Virginia. For pre-orders call Catherine at 434-517-1001 or Stephanie at 434-272-9479<br />\n<br />\nStew cooked by Randy Spainhour
LOCATION:Heritage House Parking Lot 3501 Old Halifax Road South Boston\, VA 24592
UID:e.845.11709
SEQUENCE:3
DTSTAMP:20260421T140418Z
URL:https://business.halifaxchamber.net/events/details/brunswick-stew-fundraiser-special-olympics-polar-plunge-11709
END:VEVENT

END:VCALENDAR
