BEGIN:VCALENDAR
VERSION:2.0
PRODID:-//ChamberMaster//Event Calendar 2.0//EN
METHOD:PUBLISH
X-PUBLISHED-TTL:P3D
REFRESH-INTERVAL:P3D
CALSCALE:GREGORIAN
BEGIN:VEVENT
DTSTART:20191206T163000Z
DTEND:20191206T220000Z
X-MICROSOFT-CDO-ALLDAYEVENT:FALSE
SUMMARY:Brunswick Stew Sale
DESCRIPTION:South Boston Church of God will be selling Brunswick Stew for $6 a quart.
X-ALT-DESC;FMTTYPE=text/html:South Boston Church of God will be selling Brunswick Stew for $6 a quart.
LOCATION:South Boston Church of God 3000 Halifax Road South Boston\, VA 24592
UID:e.845.15592
SEQUENCE:3
DTSTAMP:20260420T200024Z
URL:https://business.halifaxchamber.net/events/details/brunswick-stew-sale-15592
END:VEVENT

END:VCALENDAR
