BEGIN:VCALENDAR
VERSION:2.0
PRODID:-//ChamberMaster//Event Calendar 2.0//EN
METHOD:PUBLISH
X-PUBLISHED-TTL:P3D
REFRESH-INTERVAL:P3D
CALSCALE:GREGORIAN
BEGIN:VEVENT
DTSTART:20210417T200000Z
DTEND:20210417T230000Z
X-MICROSOFT-CDO-ALLDAYEVENT:FALSE
SUMMARY:Bud Break Bonfire
DESCRIPTION:Come out and celebrate the new growing season at our Bud Break Bonfire from 4PM to 7PM Saturday April 17th. We have D&D Skins selling delicious grub\, as well as S'more kits available for roasting marshmallows. The tasting room is open all day\, come grab a bottle of wine and help us kick off the growing season! HCV is committed to following the current guidelines and regulations set forth by the state of Virginia
X-ALT-DESC;FMTTYPE=text/html:<span style="color: rgb(5\, 5\, 5)\; font-family: system-ui\, -apple-system\, system-ui\, &quot\;.SFNSText-Regular&quot\;\, sans-serif\; font-size: 15px\;">Come out and celebrate the new growing season at our Bud Break Bonfire from 4PM to 7PM Saturday April 17th. We have D&amp\;D Skins selling delicious grub\, as well as S&rsquo\;more kits available for roasting marshmallows. The tasting room is open all day\, come grab a bottle of wine and help us kick off the growing season! HCV is committed to following the current guidelines and regulations set forth by the state of Virginia</span>
LOCATION:Hunting Creek Vineyards 2000 Addie Williams Trail Clover\, VA 24534
UID:e.845.17966
SEQUENCE:3
DTSTAMP:20260419T151906Z
URL:https://business.halifaxchamber.net/events/details/bud-break-bonfire-17966
END:VEVENT

END:VCALENDAR
