BEGIN:VCALENDAR
VERSION:2.0
PRODID:-//ChamberMaster//Event Calendar 2.0//EN
METHOD:PUBLISH
X-PUBLISHED-TTL:P3D
REFRESH-INTERVAL:P3D
CALSCALE:GREGORIAN
BEGIN:VEVENT
DTSTART:20181201T160000Z
DTEND:20181201T220000Z
X-MICROSOFT-CDO-ALLDAYEVENT:FALSE
SUMMARY:Build a Basket Event
DESCRIPTION:It's the most wonderful time of the year\, which means it's also time for our Build-A-Basket events!\n\nShop for Christmas gifts while you drink wine and have your gift baskets/boxes assembled and wrapped. Relax and warm up with delicious soup and mulled wine\, even if you have all of your shopping done!
X-ALT-DESC;FMTTYPE=text/html:<span style="caret-color: rgb(29\, 33\, 41)\; color: rgb(29\, 33\, 41)\; font-family: system-ui\, -apple-system\, BlinkMacSystemFont\, &quot\;.SFNSText-Regular&quot\;\, sans-serif\; font-size: 14px\; background-color: rgb(255\, 255\, 255)\;">It&#39\;s the most wonderful time of the year\, which means it&#39\;s also time for our Build-A-Basket events!</span><br style="caret-color: rgb(29\, 33\, 41)\; color: rgb(29\, 33\, 41)\; font-family: system-ui\, -apple-system\, BlinkMacSystemFont\, &quot\;.SFNSText-Regular&quot\;\, sans-serif\; font-size: 14px\;" />\n<span style="caret-color: rgb(29\, 33\, 41)\; color: rgb(29\, 33\, 41)\; font-family: system-ui\, -apple-system\, BlinkMacSystemFont\, &quot\;.SFNSText-Regular&quot\;\, sans-serif\; font-size: 14px\; background-color: rgb(255\, 255\, 255)\;">Shop for Christmas gifts while you drink wine and have your gift baskets/boxes assembled and wrapped. Relax and warm up with delicious soup and mulled wine\, even if you have all of your shopping done!</span>
LOCATION:Hunting Creek Vineyards 2000 Addie Williams Trail Clover\, VA 24534
UID:e.845.8603
SEQUENCE:3
DTSTAMP:20260421T135742Z
URL:https://business.halifaxchamber.net/events/details/build-a-basket-event-8603
END:VEVENT

END:VCALENDAR
