BEGIN:VCALENDAR
VERSION:2.0
PRODID:-//ChamberMaster//Event Calendar 2.0//EN
METHOD:PUBLISH
X-PUBLISHED-TTL:P3D
REFRESH-INTERVAL:P3D
CALSCALE:GREGORIAN
BEGIN:VEVENT
DTSTART:20181209T180000Z
DTEND:20181209T220000Z
X-MICROSOFT-CDO-ALLDAYEVENT:FALSE
SUMMARY:Build-A-Basket Holiday Event
DESCRIPTION:Join us at Hunting Creek Vineyards over two weekends where you can try our wines and socialize with friends and family. While browsing several different wine loving gift ideas for the holidays\, enjoy live music and chef prepared food pairings. Before leaving\, you can build a basket to share with a loved one. This will be held December 2nd\, 3rd\, 9th and 10th from 11am - 5pm.
X-ALT-DESC;FMTTYPE=text/html:Join us at Hunting Creek Vineyards over two weekends where you can try our wines and socialize with friends and family. While browsing several different wine loving gift ideas for the holidays\, enjoy live music and chef prepared food pairings. Before leaving\, you can build a basket to share with a loved one. This will be held December 2nd\, 3rd\, 9th and 10th&nbsp\;from 11am - 5pm.
LOCATION:Hunting Creek Vineyards 2000 Addie Williams Trl Clover\, VA 24534
UID:e.845.8605
SEQUENCE:3
DTSTAMP:20260421T140023Z
URL:https://business.halifaxchamber.net/events/details/build-a-basket-holiday-event-8605
END:VEVENT

END:VCALENDAR
