BEGIN:VCALENDAR
VERSION:2.0
PRODID:-//ChamberMaster//Event Calendar 2.0//EN
METHOD:PUBLISH
X-PUBLISHED-TTL:P3D
REFRESH-INTERVAL:P3D
CALSCALE:GREGORIAN
BEGIN:VEVENT
DTSTART:20200430T140000Z
DTEND:20200430T150000Z
X-MICROSOFT-CDO-ALLDAYEVENT:FALSE
SUMMARY:Build A Better Website
DESCRIPTION:Are you getting ready to build your website? Do you want to know how to improve your current site?\n\nThis short course is a class and interactive Q&A designed to: Audit your existing website or build your own site like a marketing pro. This class will not cover the technical details of site construction. However\, it will review the types of layout\, content\, and design that is needed for an effective website.\n\nThe short course will cover an overview of the following topics:\n\n\n	Website Visual Design\n	Content\n	Calls to Action\n	Google Analytics\n	Gaining Website Viewers\n\n\nThis course is made up of a 45-minute training video\, worksheets and hour-long Q&A with the instructor\, Ilsa Loeser. After watching the training and filling out your worksheets\, you'll submit a short form to the Letterpress Team for a review and recommendations for how to optimize your strategy.
X-ALT-DESC;FMTTYPE=text/html:<p style="box-sizing: border-box\; border: 0px\; font-family: Verdana\, sans-serif\; font-size: 16px\; margin: 0px 0px 1.5em\; outline: 0px\; padding: 0px\; vertical-align: baseline\; color: rgb(64\, 64\, 64)\;"><span style="font-size:12px\;"><span style="font-family:arial\;">Are you getting ready to build your website? Do you want to know how to improve your current site?</span></span></p>\n\n<p style="box-sizing: border-box\; border: 0px\; font-family: Verdana\, sans-serif\; font-size: 16px\; margin: 0px 0px 1.5em\; outline: 0px\; padding: 0px\; vertical-align: baseline\; color: rgb(64\, 64\, 64)\;"><span style="font-size:12px\;"><span style="font-family:arial\;">This short course is a class and interactive Q&amp\;A designed to: Audit your existing website or build your own site like a marketing pro. This class will not cover the technical details of site construction. However\, it will review the types of layout\, content\, and design that is needed for an effective website.</span></span></p>\n\n<p style="box-sizing: border-box\; border: 0px\; font-family: Verdana\, sans-serif\; font-size: 16px\; margin: 0px 0px 1.5em\; outline: 0px\; padding: 0px\; vertical-align: baseline\; color: rgb(64\, 64\, 64)\;"><span style="font-size:12px\;"><span style="font-family:arial\;">The short course will cover an overview of the following topics:</span></span></p>\n\n<ul style="box-sizing: border-box\; border: 0px\; font-family: Verdana\, sans-serif\; font-size: 16px\; margin: 0px 0px 1.5em 3em\; outline: 0px\; padding-right: 0px\; padding-left: 0px\; vertical-align: baseline\; list-style-position: initial\; list-style-image: initial\; color: rgb(64\, 64\, 64)\;">\n	<li style="box-sizing: border-box\; border: 0px\; font-family: inherit\; font-style: inherit\; font-weight: inherit\; margin: 0px\; outline: 0px\; padding: 0px\; vertical-align: baseline\;"><span style="font-size:12px\;"><span style="font-family:arial\;"><strong style="box-sizing: border-box\; border: 0px\; font-family: inherit\; font-style: inherit\; margin: 0px\; outline: 0px\; padding: 0px\; vertical-align: baseline\;">Website Visual Design</strong></span></span></li>\n	<li style="box-sizing: border-box\; border: 0px\; font-family: inherit\; font-style: inherit\; font-weight: inherit\; margin: 0px\; outline: 0px\; padding: 0px\; vertical-align: baseline\;"><span style="font-size:12px\;"><span style="font-family:arial\;"><strong style="box-sizing: border-box\; border: 0px\; font-family: inherit\; font-style: inherit\; margin: 0px\; outline: 0px\; padding: 0px\; vertical-align: baseline\;">Content</strong></span></span></li>\n	<li style="box-sizing: border-box\; border: 0px\; font-family: inherit\; font-style: inherit\; font-weight: inherit\; margin: 0px\; outline: 0px\; padding: 0px\; vertical-align: baseline\;"><span style="font-size:12px\;"><span style="font-family:arial\;"><strong style="box-sizing: border-box\; border: 0px\; font-family: inherit\; font-style: inherit\; margin: 0px\; outline: 0px\; padding: 0px\; vertical-align: baseline\;">Calls to Action</strong></span></span></li>\n	<li style="box-sizing: border-box\; border: 0px\; font-family: inherit\; font-style: inherit\; font-weight: inherit\; margin: 0px\; outline: 0px\; padding: 0px\; vertical-align: baseline\;"><span style="font-size:12px\;"><span style="font-family:arial\;"><strong style="box-sizing: border-box\; border: 0px\; font-family: inherit\; font-style: inherit\; margin: 0px\; outline: 0px\; padding: 0px\; vertical-align: baseline\;">Google Analytics</strong></span></span></li>\n	<li style="box-sizing: border-box\; border: 0px\; font-family: inherit\; font-style: inherit\; font-weight: inherit\; margin: 0px\; outline: 0px\; padding: 0px\; vertical-align: baseline\;"><span style="font-size:12px\;"><span style="font-family:arial\;"><strong style="box-sizing: border-box\; border: 0px\; font-family: inherit\; font-style: inherit\; margin: 0px\; outline: 0px\; padding: 0px\; vertical-align: baseline\;">Gaining Website Viewers</strong></span></span></li>\n</ul>\n\n<p style="box-sizing: border-box\; border: 0px\; font-family: Verdana\, sans-serif\; font-size: 16px\; margin: 0px 0px 1.5em\; outline: 0px\; padding: 0px\; vertical-align: baseline\; color: rgb(64\, 64\, 64)\;"><span style="font-size:12px\;"><span style="font-family:arial\;">This course is made up of a 45-minute training video\, worksheets and hour-long Q&amp\;A with the instructor\, Ilsa Loeser. After watching the training and filling out your worksheets\, you&rsquo\;ll submit a short form to the Letterpress Team for a review and recommendations for how to optimize your strategy.</span></span></p>\n
LOCATION:
UID:e.845.17575
SEQUENCE:3
DTSTAMP:20260420T114241Z
URL:https://business.halifaxchamber.net/events/details/build-a-better-website-17575
END:VEVENT

END:VCALENDAR
