BEGIN:VCALENDAR
VERSION:2.0
PRODID:-//ChamberMaster//Event Calendar 2.0//EN
METHOD:PUBLISH
X-PUBLISHED-TTL:P3D
REFRESH-INTERVAL:P3D
CALSCALE:GREGORIAN
BEGIN:VEVENT
DTSTART:20200604T140000Z
DTEND:20200604T150000Z
X-MICROSOFT-CDO-ALLDAYEVENT:FALSE
SUMMARY:Build A Better Website
DESCRIPTION:Are you getting ready to build your website? Do you want to know how to improve your current site? \n\n \n\nThis short course is a class and interactive Q&A designed to audit your existing website or build your own site like a marketing pro. This class will not cover the technical details of site construction. However\, it will review the types of layout\, content\, and design that is needed for an effective website. \n\n \n\nThe short course will cover an overview of the following topics:\n\n \n      Website Visual Design\n\n      Content\n\n      Calls to Action\n\n      Google Analytics\n\n      Gaining Website Viewers\n\n \n\nThis course is made up of a 45-minute training video\, worksheets and hour-long Q&A with a Letterpress instructor. After watching the training and filling out your worksheets\, you'll submit a short form to the Letterpress Team for a review and recommendations for how to optimize your strategy.
X-ALT-DESC;FMTTYPE=text/html:<div style="color:rgb(0\, 0\, 0)\;font-family:-webkit-standard\;text-size-adjust:auto\;"><span style="color:#54410b\;"><span style="font-family:century gothic\,sans-serif\;"><span style="font-size:12pt\;">Are you getting ready to build your website? Do you want to know how to improve your current site?&nbsp\;</span></span></span></div>\n\n<div style="color:rgb(0\, 0\, 0)\;font-family:-webkit-standard\;text-size-adjust:auto\;">&nbsp\;</div>\n\n<div style="color:rgb(0\, 0\, 0)\;font-family:-webkit-standard\;text-size-adjust:auto\;"><span style="color:#54410b\;"><span style="font-family:century gothic\,sans-serif\;"><span style="font-size:12pt\;">This short course is a class and interactive Q&amp\;A designed to audit your existing website or build your own site like a marketing pro. This class will not cover the technical details of site construction. However\, it will review the types of layout\, content\, and design that is needed for an effective website.&nbsp\;</span></span></span></div>\n\n<div style="color:rgb(0\, 0\, 0)\;font-family:-webkit-standard\;text-size-adjust:auto\;">&nbsp\;</div>\n\n<div style="color:rgb(0\, 0\, 0)\;font-family:-webkit-standard\;text-size-adjust:auto\;"><span style="color:#54410b\;"><span style="font-family:century gothic\,sans-serif\;"><span style="font-size:12pt\;">The short course will cover an overview of the&nbsp\;following topics:</span></span></span></div>\n\n<div style="color:rgb(0\, 0\, 0)\;font-family:-webkit-standard\;text-size-adjust:auto\;">&nbsp\;</div>\n<span style="color:#54410b\;"><span style="font-size:10pt\;">&middot\;&nbsp\;&nbsp\;&nbsp\;&nbsp\; </span></span><strong><span style="color:#54410b\;"><span style="font-family:century gothic\,sans-serif\;"><span style="font-size:12pt\;">Website Visual Design</span></span></span></strong><br />\n<span style="color:#54410b\;"><span style="font-size:10pt\;">&middot\;&nbsp\;&nbsp\;&nbsp\;&nbsp\; </span></span><strong><span style="color:#54410b\;"><span style="font-family:century gothic\,sans-serif\;"><span style="font-size:12pt\;">Content</span></span></span></strong><br />\n<span style="color:#54410b\;"><span style="font-size:10pt\;">&middot\;&nbsp\;&nbsp\;&nbsp\;&nbsp\; </span></span><strong><span style="color:#54410b\;"><span style="font-family:century gothic\,sans-serif\;"><span style="font-size:12pt\;">Calls to Action</span></span></span></strong><br />\n<span style="color:#54410b\;"><span style="font-size:10pt\;">&middot\;&nbsp\;&nbsp\;&nbsp\;&nbsp\; </span></span><strong><span style="color:#54410b\;"><span style="font-family:century gothic\,sans-serif\;"><span style="font-size:12pt\;">Google Analytics</span></span></span></strong><br />\n<span style="color:#54410b\;"><span style="font-size:10pt\;">&middot\;&nbsp\;&nbsp\;&nbsp\;&nbsp\; </span></span><strong><span style="color:#54410b\;"><span style="font-family:century gothic\,sans-serif\;"><span style="font-size:12pt\;">Gaining Website Viewers</span></span></span></strong>\n\n<div style="color:rgb(0\, 0\, 0)\;font-family:-webkit-standard\;text-size-adjust:auto\;">&nbsp\;</div>\n\n<div style="color:rgb(0\, 0\, 0)\;font-family:-webkit-standard\;text-size-adjust:auto\;"><span style="color:#54410b\;"><span style="font-family:century gothic\,sans-serif\;"><span style="font-size:12pt\;">This course is made up of a 45-minute training video\, worksheets and hour-long Q&amp\;A with a Letterpress instructor.&nbsp\;After watching the training and filling out your worksheets\, you&rsquo\;ll submit a short form to the Letterpress Team for a review and recommendations for how to optimize your strategy.</span></span></span></div>\n
LOCATION:Register at: https://clients.virginiasbdc.org/workshop.aspx?ekey=90400030
UID:e.845.17658
SEQUENCE:3
DTSTAMP:20260420T095836Z
URL:https://business.halifaxchamber.net/events/details/build-a-better-website-17658
END:VEVENT

END:VCALENDAR
