BEGIN:VCALENDAR
VERSION:2.0
PRODID:-//ChamberMaster//Event Calendar 2.0//EN
METHOD:PUBLISH
X-PUBLISHED-TTL:P3D
REFRESH-INTERVAL:P3D
CALSCALE:GREGORIAN
BEGIN:VEVENT
DTSTART:20201013T123000Z
DTEND:20201013T133000Z
X-MICROSOFT-CDO-ALLDAYEVENT:FALSE
SUMMARY:Building Effective Community Partnerships during COVID
DESCRIPTION:Many community organizations have had to cancel large events that contributed significantly to the local small business economy. Join Katherine Beale\, SBDC Retail Consultant and Brent Morris\, Director of Business Development for the Town of South Hill and President\, South Hill Chamber of Commerce as they discuss some examples of new creative community/small businesses partnerships that are driving results and generating enthusiasm.
X-ALT-DESC;FMTTYPE=text/html:<span style="font-family: &quot\;Century Gothic&quot\;\, Calibri\, Helvetica\, Arial\, sans-serif\; text-size-adjust: auto\; font-size: 16px\;">Many community organizations have had to cancel large events that contributed significantly to the local small business economy. Join </span><span style="font-family: &quot\;Century Gothic&quot\;\, Calibri\, Helvetica\, Arial\, sans-serif\; text-size-adjust: auto\; font-size: 16px\; font-weight: bold\;">Katherine Beale</span><span style="font-family: &quot\;Century Gothic&quot\;\, Calibri\, Helvetica\, Arial\, sans-serif\; text-size-adjust: auto\; font-size: 16px\;">\, SBDC Retail Consultant and </span><span style="font-family: &quot\;Century Gothic&quot\;\, Calibri\, Helvetica\, Arial\, sans-serif\; text-size-adjust: auto\; font-size: 16px\; font-weight: bold\;">Brent Morris</span><span style="font-family: &quot\;Century Gothic&quot\;\, Calibri\, Helvetica\, Arial\, sans-serif\; text-size-adjust: auto\; font-size: 16px\;">\, Director of Business Development for the Town of South Hill and President\, South Hill Chamber of Commerce as they discuss some examples of new creative community/small businesses partnerships that are driving results and generating enthusiasm.</span>
LOCATION:Register via Zoom at: https://us02web.zoom.us/meeting/register/tZItc-CvqzoiH9SEUD9mBuIPPspFvMLMmqCm
UID:e.845.17770
SEQUENCE:3
DTSTAMP:20260420T013147Z
URL:https://business.halifaxchamber.net/events/details/building-effective-community-partnerships-during-covid-17770
END:VEVENT

END:VCALENDAR
