BEGIN:VCALENDAR
VERSION:2.0
PRODID:-//ChamberMaster//Event Calendar 2.0//EN
METHOD:PUBLISH
X-PUBLISHED-TTL:P3D
REFRESH-INTERVAL:P3D
CALSCALE:GREGORIAN
BEGIN:VEVENT
DTSTART:20160301T180000Z
DTEND:20160301T200000Z
X-MICROSOFT-CDO-ALLDAYEVENT:FALSE
SUMMARY:Building Financial Wealth by Improving your Credit Score
DESCRIPTION:Credit plays an important role in our lives. It is often misunderstood and misused\, which can have a negative impact on our lives for many years.\n\n\n\n2 Free workshops that will empower you to better manage your credit and teach you how to increase your credit standing.\n\n\n\nPart One: will provide participants with an understanding of what credit is\; why it is important and how it impacts our entire lives.\n\n\n\nPart Two: will explain what is on your credit report\, how to improve your score and provide opportunity to meet one-on-one with a Certified Counselor who can review your credit with you  (for free) and assist you in making plans to reduce debt and increase your credit rating.
X-ALT-DESC;FMTTYPE=text/html:Credit plays an important role in our lives. It is often misunderstood and misused\, which can have a negative impact on our lives for many years.<br />\n<br />\n2 Free workshops that will empower you to better manage your credit and teach you how to increase your credit standing.<br />\n<br />\nPart One: will provide participants with an understanding of what credit is\; why it is important and how it impacts our entire lives.<br />\n<br />\nPart Two: will explain what is on your credit report\, how to improve your score and provide opportunity to meet one-on-one with a Certified Counselor who can review your credit with you&nbsp\; (for free) and assist you in making plans to reduce debt and increase your credit rating.
LOCATION:Southern Virginia Higher Education Center 820 Bruce Street\, South Boston In the Innovation Center
UID:e.845.4579
SEQUENCE:3
DTSTAMP:20260425T112020Z
URL:https://business.halifaxchamber.net/events/details/building-financial-wealth-by-improving-your-credit-score-03-01-2016-4579
END:VEVENT

END:VCALENDAR
