BEGIN:VCALENDAR
VERSION:2.0
PRODID:-//ChamberMaster//Event Calendar 2.0//EN
METHOD:PUBLISH
X-PUBLISHED-TTL:P3D
REFRESH-INTERVAL:P3D
CALSCALE:GREGORIAN
BEGIN:VEVENT
DTSTART:20160120T140000Z
DTEND:20160120T153000Z
X-MICROSOFT-CDO-ALLDAYEVENT:FALSE
SUMMARY:Building the Foundation For Your New Business
DESCRIPTION:Entrepreneurship is the American Dream. Unfortunately\, of the 1 million businesses started each year\, most of them eventually fail. The one common theme may be lack of planning. If you are considering the possibility of starting a business\, this free seminar will provide information that may help your business be among the 20 percent that survive and thrive. Prepare to start a successful business by evaluating your entrepreneurial abilities\, marketing strategies\, financial resources\, legal form of organization\, and receive tips to prepare and present your business plan.
X-ALT-DESC;FMTTYPE=text/html:<span style="color:#1F497D\;">Entrepreneurship is the American Dream. Unfortunately\, of the 1 million businesses started each year\, most of them eventually fail. The one common theme may be lack of planning. If you are considering the possibility of starting a business\, this free seminar will provide information that may help your business be among the 20 percent that survive and thrive. Prepare to start a successful business by evaluating your entrepreneurial abilities\, marketing strategies\, financial resources\, legal form of organization\, and receive tips to prepare and present your business plan.</span>
LOCATION:Southern Virginia Higher Education Center
UID:e.845.4563
SEQUENCE:3
DTSTAMP:20260425T125041Z
URL:https://business.halifaxchamber.net/events/details/building-the-foundation-for-your-new-business-01-20-2016-4563
END:VEVENT

END:VCALENDAR
