BEGIN:VCALENDAR
VERSION:2.0
PRODID:-//ChamberMaster//Event Calendar 2.0//EN
METHOD:PUBLISH
X-PUBLISHED-TTL:P3D
REFRESH-INTERVAL:P3D
CALSCALE:GREGORIAN
BEGIN:VEVENT
DTSTART:20160810T130000Z
DTEND:20160810T150000Z
X-MICROSOFT-CDO-ALLDAYEVENT:FALSE
SUMMARY:Building the Foundation for your New Business
DESCRIPTION:Small Business Seminar for New Business Start Ups\n\n\n\nEntrepreneurship is the American Dream. Unfortunately\, of the 1 million businesses started each year\, most of them eventually fail. The one common theme may be a lack of planning. If you are considering the possibility of starting a business\, this free seminar will provide the information that may help your business be among the 20 percent that survive and thrive.\n\n\n\nPrepare to start a successful business by evaluating your entrepreneurial abilities\, marketing strategies\, financial resources\, legal form of organization\, and receive tips to prepare and present your business plan.
X-ALT-DESC;FMTTYPE=text/html:Small Business Seminar for New Business Start Ups<br />\n<br />\nEntrepreneurship is the American Dream. Unfortunately\, of the 1 million businesses started each year\, most of them eventually fail. The one common theme may be a lack of planning. If you are considering the possibility of starting a business\, this free seminar will provide the information that may help your business be among the 20 percent that survive and thrive.<br />\n<br />\nPrepare to start a successful business by evaluating your entrepreneurial abilities\, marketing strategies\, financial resources\, legal form of organization\, and receive tips to prepare and present your business plan.
LOCATION:Innovation Center Southern Virginia Higher Education Center 820 Bruce Street\, South Boston\, VA
UID:e.845.4697
SEQUENCE:3
DTSTAMP:20260425T004139Z
URL:https://business.halifaxchamber.net/events/details/building-the-foundation-for-your-new-business-08-10-2016-4697
END:VEVENT

END:VCALENDAR
