BEGIN:VCALENDAR
VERSION:2.0
PRODID:-//ChamberMaster//Event Calendar 2.0//EN
METHOD:PUBLISH
X-PUBLISHED-TTL:P3D
REFRESH-INTERVAL:P3D
CALSCALE:GREGORIAN
BEGIN:VEVENT
DTSTART:20190314T130000Z
DTEND:20190314T143000Z
X-MICROSOFT-CDO-ALLDAYEVENT:FALSE
SUMMARY:Building the Foundation for your new Business
DESCRIPTION:Thinking about starting a small business? Have you already started and realize you may have missed a few things? We review the steps for a successful start. For potential small business owners\, this class is a MUST!\n\n \n\nSmall businesses play a vital role in the growth of our economy. Did you know that over 650\,000 new businesses are started in the United States each year? The harsh reality is only about 50% survive past the first five years. Planning is everything!\n\n \n\nPrepare to start a successful business:\n\n \n\n\n	Evaluate your entrepreneurial abilities\n	Marketing strategies\n	Financial resources\n	Legal form of organization\n	Tips to prepare & present your business plan\n\n\n \n\nIf you are considering starting a business\, this FREE seminar will provide valuable information that may help your business be among the 50% that survive.
X-ALT-DESC;FMTTYPE=text/html:<div align="left" style="font-size: 16px\; color: rgb(80\, 83\, 98)\; font-family: Arial\, Verdana\, Helvetica\, sans-serif\;"><span style="color: rgb(23\, 117\, 114)\;">Thinking about starting a small business?&nbsp\;Have you already started and realize you may have missed a few things? We review the steps for a successful start. For potential small business owners\, this class is a MUST!</span></div>\n\n<div align="left" style="font-size: 16px\; color: rgb(80\, 83\, 98)\; font-family: Arial\, Verdana\, Helvetica\, sans-serif\;">&nbsp\;</div>\n\n<div align="left" style="font-size: 16px\; color: rgb(80\, 83\, 98)\; font-family: Arial\, Verdana\, Helvetica\, sans-serif\;"><span style="color: rgb(23\, 117\, 114)\;">Small businesses play a vital role in the growth of our economy. Did you know that over 650\,000 new businesses are started in the United States each year? The harsh reality is only about 50% survive past the first five years. Planning is everything!</span></div>\n\n<div align="left" style="font-size: 16px\; color: rgb(80\, 83\, 98)\; font-family: Arial\, Verdana\, Helvetica\, sans-serif\;">&nbsp\;</div>\n\n<div align="left" style="font-size: 16px\; color: rgb(80\, 83\, 98)\; font-family: Arial\, Verdana\, Helvetica\, sans-serif\;"><span style="color: rgb(23\, 117\, 114)\;">Prepare to start a successful business:</span></div>\n\n<div align="left" style="font-size: 16px\; color: rgb(80\, 83\, 98)\; font-family: Arial\, Verdana\, Helvetica\, sans-serif\;">&nbsp\;</div>\n\n<ul style="font-size: 16px\; padding: 0px\; margin: 0px 0px 0px 40px\; color: rgb(80\, 83\, 98)\; font-family: Arial\, Verdana\, Helvetica\, sans-serif\; text-align: center\;">\n	<li style="padding: 0px\; margin: 0px\; line-height: 1.2\; color: rgb(23\, 117\, 114)\; text-align: left\;"><span style="font-weight: bold\;">Evaluate your entrepreneurial abilities</span></li>\n	<li style="padding: 0px\; margin: 0px\; line-height: 1.2\; color: rgb(23\, 117\, 114)\; text-align: left\;"><span style="font-weight: bold\;">Marketing strategies</span></li>\n	<li style="padding: 0px\; margin: 0px\; line-height: 1.2\; color: rgb(23\, 117\, 114)\; text-align: left\;"><span style="font-weight: bold\;">Financial resources</span></li>\n	<li style="padding: 0px\; margin: 0px\; line-height: 1.2\; color: rgb(23\, 117\, 114)\; text-align: left\;"><span style="font-weight: bold\;">Legal form of organization</span></li>\n	<li style="padding: 0px\; margin: 0px\; line-height: 1.2\; color: rgb(23\, 117\, 114)\; text-align: left\;"><span style="font-weight: bold\;">Tips to prepare &amp\; present your business plan</span></li>\n</ul>\n\n<div align="left" style="font-size: 16px\; color: rgb(80\, 83\, 98)\; font-family: Arial\, Verdana\, Helvetica\, sans-serif\;"><span style="color: rgb(23\, 117\, 114)\;">&nbsp\;</span></div>\n\n<div align="left" style="font-size: 16px\; color: rgb(80\, 83\, 98)\; font-family: Arial\, Verdana\, Helvetica\, sans-serif\;"><span style="color: rgb(23\, 117\, 114)\;">If you are considering starting a business\, this FREE seminar will provide valuable information that may help your business be among the 50% that survive</span><span style="font-size: 14px\; color: rgb(23\, 117\, 114)\;">.</span><span style="font-size: 12px\; color: rgb(23\, 117\, 114)\;">&nbsp\;</span></div>\n
LOCATION:Southern Virginia Higher Education Center South Boston\, VA
UID:e.845.12045
SEQUENCE:3
DTSTAMP:20260421T093929Z
URL:https://business.halifaxchamber.net/events/details/building-the-foundation-for-your-new-business-12045
END:VEVENT

END:VCALENDAR
