BEGIN:VCALENDAR
VERSION:2.0
PRODID:-//ChamberMaster//Event Calendar 2.0//EN
METHOD:PUBLISH
X-PUBLISHED-TTL:P3D
REFRESH-INTERVAL:P3D
CALSCALE:GREGORIAN
BEGIN:VEVENT
DTSTART:20200916T190000Z
DTEND:20200916T210000Z
X-MICROSOFT-CDO-ALLDAYEVENT:FALSE
SUMMARY:Building the Foundation for Your New Business
DESCRIPTION:Some of the most popular reasons to start a business include-having a unique business idea\, designing a career that has the flexibility to grow with you\, working toward financial independence and investing in yourself.\n\n \n\nPrepare to start a successful business:\n\n \n\n\n	Evaluate your entrepreneurial abilities \n	Marketing strategies \n	Financial resources\n	Legal form of organization\n	Tips to prepare & present your business plan\n\n\n \n\nNot every small business is positioned for success\, so you may be in for a real challenge when you decide to take the plunge\, ditch your day job\, and become a business owner. The stage is often set in the beginning\, so make sure you start with a strong foundation.
X-ALT-DESC;FMTTYPE=text/html:<div style="caret-color: rgb(37\, 78\, 112)\; color: rgb(37\, 78\, 112)\; font-family: &quot\;Century Gothic&quot\;\, Calibri\, Helvetica\, Arial\, sans-serif\; font-size: 14px\; text-size-adjust: auto\;"><span style="font-size: 16px\; color: rgb(41\, 75\, 147)\; font-family: &quot\;Lucida Sans Unicode&quot\;\, &quot\;Lucida Grande&quot\;\, sans-serif\;">Some of the most popular reasons to start a business include-having a unique business idea\, designing a career that has the flexibility to grow with you\, working toward financial independence and investing in yourself.</span></div>\n\n<div style="caret-color: rgb(37\, 78\, 112)\; color: rgb(37\, 78\, 112)\; font-family: &quot\;Century Gothic&quot\;\, Calibri\, Helvetica\, Arial\, sans-serif\; font-size: 14px\; text-size-adjust: auto\;"><span style="font-size: 16px\; color: rgb(41\, 75\, 147)\; font-family: &quot\;Lucida Sans Unicode&quot\;\, &quot\;Lucida Grande&quot\;\, sans-serif\;">&nbsp\;</span></div>\n\n<div style="caret-color: rgb(37\, 78\, 112)\; color: rgb(37\, 78\, 112)\; font-family: &quot\;Century Gothic&quot\;\, Calibri\, Helvetica\, Arial\, sans-serif\; font-size: 14px\; text-size-adjust: auto\;"><span style="font-size: 16px\; color: rgb(41\, 75\, 147)\; font-family: &quot\;Lucida Sans Unicode&quot\;\, &quot\;Lucida Grande&quot\;\, sans-serif\;">Prepare to start a successful business</span><span style="font-size: 16px\; color: rgb(41\, 75\, 147)\; font-family: &quot\;Lucida Sans Unicode&quot\;\, &quot\;Lucida Grande&quot\;\, sans-serif\; font-weight: bold\;">:</span></div>\n\n<div style="caret-color: rgb(37\, 78\, 112)\; color: rgb(37\, 78\, 112)\; font-family: &quot\;Century Gothic&quot\;\, Calibri\, Helvetica\, Arial\, sans-serif\; font-size: 14px\; text-size-adjust: auto\;">&nbsp\;</div>\n\n<ul style="padding-right: 0px\; padding-left: 0px\; margin: 0px 0px 0px 40px\; caret-color: rgb(37\, 78\, 112)\; color: rgb(37\, 78\, 112)\; font-family: &quot\;Century Gothic&quot\;\, Calibri\, Helvetica\, Arial\, sans-serif\; font-size: 14px\; text-size-adjust: auto\;">\n	<li style="padding: 0px\; margin: 0px\; line-height: 1.2\; font-size: 16px\; color: rgb(41\, 75\, 147)\;"><span style="font-family: &quot\;Lucida Sans Unicode&quot\;\, &quot\;Lucida Grande&quot\;\, sans-serif\; font-weight: bold\;">Evaluate your entrepreneurial abilities&nbsp\;</span></li>\n	<li style="padding: 0px\; margin: 0px\; line-height: 1.2\; font-size: 16px\; color: rgb(41\, 75\, 147)\;"><span style="font-family: &quot\;Lucida Sans Unicode&quot\;\, &quot\;Lucida Grande&quot\;\, sans-serif\; font-weight: bold\;">Marketing strategies&nbsp\;</span></li>\n	<li style="padding: 0px\; margin: 0px\; line-height: 1.2\; font-size: 16px\; color: rgb(41\, 75\, 147)\;"><span style="font-family: &quot\;Lucida Sans Unicode&quot\;\, &quot\;Lucida Grande&quot\;\, sans-serif\; font-weight: bold\;">Financial resources</span></li>\n	<li style="padding: 0px\; margin: 0px\; line-height: 1.2\; font-size: 16px\; color: rgb(41\, 75\, 147)\;"><span style="font-family: &quot\;Lucida Sans Unicode&quot\;\, &quot\;Lucida Grande&quot\;\, sans-serif\; font-weight: bold\;">Legal form of organization</span></li>\n	<li style="padding: 0px\; margin: 0px\; line-height: 1.2\; font-size: 16px\; color: rgb(41\, 75\, 147)\;"><span style="font-family: &quot\;Lucida Sans Unicode&quot\;\, &quot\;Lucida Grande&quot\;\, sans-serif\; font-weight: bold\;">Tips to prepare &amp\; present your business plan</span></li>\n</ul>\n\n<div style="caret-color: rgb(37\, 78\, 112)\; color: rgb(37\, 78\, 112)\; font-family: &quot\;Century Gothic&quot\;\, Calibri\, Helvetica\, Arial\, sans-serif\; font-size: 14px\; text-size-adjust: auto\;">&nbsp\;</div>\n\n<div style="caret-color: rgb(37\, 78\, 112)\; color: rgb(37\, 78\, 112)\; font-family: &quot\;Century Gothic&quot\;\, Calibri\, Helvetica\, Arial\, sans-serif\; font-size: 14px\; text-size-adjust: auto\;"><span style="font-size: 16px\; color: rgb(41\, 75\, 147)\; font-family: &quot\;Lucida Sans Unicode&quot\;\, &quot\;Lucida Grande&quot\;\, sans-serif\;">Not every small business is positioned for success\, so you may be in for a real challenge when you decide to take the plunge\, ditch your day job\, and become a business owner. The stage is often set in the beginning\, so make sure you start with a strong foundation.</span></div>\n
LOCATION:Register at: https://clients.virginiasbdc.org/workshop.aspx?ekey=93400022
UID:e.845.17756
SEQUENCE:3
DTSTAMP:20260420T050730Z
URL:https://business.halifaxchamber.net/events/details/building-the-foundation-for-your-new-business-17756
END:VEVENT

END:VCALENDAR
