BEGIN:VCALENDAR
VERSION:2.0
PRODID:-//ChamberMaster//Event Calendar 2.0//EN
METHOD:PUBLISH
X-PUBLISHED-TTL:P3D
REFRESH-INTERVAL:P3D
CALSCALE:GREGORIAN
BEGIN:VEVENT
DTSTART:20210422T140000Z
DTEND:20210422T153000Z
X-MICROSOFT-CDO-ALLDAYEVENT:FALSE
SUMMARY:Building the Foundation for Your New Business
DESCRIPTION:Some of the most popular reasons to start a business include having a unique business idea\, designing a career that has the flexibility to grow with you\, working toward financial independence and investing in yourself.\n\nPrepare to start a successful business:\n\n	Evaluate your entrepreneurial abilities\n	Marketing strategies\n	Financial recources\n	Legal form of organization\n	Tips to prepare & present your business plan\n	Cybersecurity tips\n\nNot every small business is positioned for success\, so you may be in for a real challenge when you decide to take the plunge\, ditch your day job\, and become a business owner. The stage is often set in the beginning\, so make sure you start with a strong foundation.
X-ALT-DESC;FMTTYPE=text/html:Some of the most popular reasons to start a business include having a unique business idea\, designing a career that has the flexibility to grow with you\, working toward financial independence and investing in yourself.<br />\nPrepare to start a successful business:\n<ul>\n	<li>Evaluate your entrepreneurial abilities</li>\n	<li>Marketing strategies</li>\n	<li>Financial recources</li>\n	<li>Legal form of organization</li>\n	<li>Tips to prepare &amp\; present your business plan</li>\n	<li>Cybersecurity tips</li>\n</ul>\nNot every small business is positioned for success\, so you may be in for a real challenge when you decide to take the plunge\, ditch your day job\, and become a business owner. The stage is often set in the beginning\, so make sure you start with a strong foundation.
LOCATION:Via Zoom Register at https://clients.virginiasbdc.org/workshop.aspx?ekey=91410003
UID:e.845.17926
SEQUENCE:3
DTSTAMP:20260419T154049Z
URL:https://business.halifaxchamber.net/events/details/building-the-foundation-for-your-new-business-17926
END:VEVENT

END:VCALENDAR
