BEGIN:VCALENDAR
VERSION:2.0
PRODID:-//ChamberMaster//Event Calendar 2.0//EN
METHOD:PUBLISH
X-PUBLISHED-TTL:P3D
REFRESH-INTERVAL:P3D
CALSCALE:GREGORIAN
BEGIN:VEVENT
DTSTART:20180125T223000Z
DTEND:20180126T000000Z
X-MICROSOFT-CDO-ALLDAYEVENT:FALSE
SUMMARY:Building the Foundation for Your New Business
DESCRIPTION:Topic: Start-up Assistance\n\nSmall businesses play a vital role in the growth of our economy. Did you know that over 1 million businesses are started each year? The harsh reality is only about 20 percent survive past the first year. Planning is everything! Prepare to start a successful business: Evaluate your entrepreneurial abilities Marketing strategies Financial resources Legal form of organization Tips to prepare & present your business plan If you are considering starting a business\, this FREE seminar will provide valuable information that may help your business be among the 20 percent that survive. \n\nSpeaker(s): Presented and taught by Lin Hite\, Regional Director\n\nCo-Sponsor(s): Longwood SBDC\, George Mason University\, Virginia Small Business Development Center\, U.S. Small Business Administration\, SVHEC\n\n \n \n\nFee: No Cost\n\nRegister Online\n\nAlready Registered? Sign in for more information.\n\n\n\n\n\nPhone: 434-395-2086\n\nEmail: sbdc@longwood.edu
X-ALT-DESC;FMTTYPE=text/html:<div id="ContentPlaceHolder1_divEvent" style="margin: 0px\; padding: 0px\; border: 0px\; outline: 0px\; font-size: 16px\; vertical-align: baseline\; font-family: Arial\;">\n<div style="margin: 0px\; padding: 0px\; border: 0px\; outline: 0px\; vertical-align: baseline\;">\n<div style="margin: 0px\; padding: 0px\; border: 0px\; outline: 0px\; vertical-align: baseline\;">Topic: Start-up Assistance</div>\n\n<p class="cdworkshoptextinfo" style="margin: 0px 0px 1.5em\; padding: 0px\; border: 0px\; outline: 0px\; vertical-align: baseline\; line-height: 1.6em\; white-space: pre-wrap\;">Small businesses play a vital role in the growth of our economy. Did you know that over 1 million businesses are started each year? The harsh reality is only about 20 percent survive past the first year. Planning is everything! Prepare to start a successful business: Evaluate your entrepreneurial abilities Marketing strategies Financial resources Legal form of organization Tips to prepare &amp\; present your business plan If you are considering starting a business\, this FREE seminar will provide valuable information that may help your business be among the 20 percent that survive.&nbsp\;</p>\n\n<p class="cdworkshoptextinfo" style="margin: 0px 0px 1.5em\; padding: 0px\; border: 0px\; outline: 0px\; vertical-align: baseline\; line-height: 1.6em\; white-space: pre-wrap\;">Speaker(s): Presented and taught by Lin Hite\, Regional Director</p>\n\n<p class="cdworkshoptextinfo" style="margin: 0px 0px 1.5em\; padding: 0px\; border: 0px\; outline: 0px\; vertical-align: baseline\; line-height: 1.6em\; white-space: pre-wrap\;">Co-Sponsor(s): Longwood SBDC\, George Mason University\, Virginia Small Business Development Center\, U.S. Small Business Administration\, SVHEC</p>\n\n<div style="margin: 0px\; padding: 0px\; border: 0px\; outline: 0px\; vertical-align: baseline\;">&nbsp\;</div>\n&nbsp\;\n\n<p style="margin: 0px 0px 1.5em\; padding: 0px\; border: 0px\; outline: 0px\; vertical-align: baseline\; line-height: 1.6em\;">Fee: No Cost</p>\n\n<div style="margin: 0px\; padding: 0px\; border: 0px\; outline: 0px\; vertical-align: baseline\;"><a class="cdeventreg" href="https://clients.virginiasbdc.org/reg.aspx?mode=event&amp\;event=91380001" style="margin: 0px 0px 0.5em\; padding: 0.8rem 2rem\; font-size: 1.2rem\; outline: none\; text-decoration: none\; background-color: rgb(0\, 64\, 117) !important\; vertical-align: baseline\; color: white !important\; display: inline-block\; transition: background-color 0.2s ease\, border 0.2s ease\, color 0.2s ease\, opacity 0.2s ease-in-out\; background-position: initial initial\; background-repeat: initial initial\;">Register Online</a></div>\n\n<div style="margin: 0px\; padding: 0px\; border: 0px\; outline: 0px\; vertical-align: baseline\;">Already Registered?&nbsp\;<a href="https://clients.virginiasbdc.org/reg.aspx?mode=signin&amp\;origurl=workshop.aspx%3fekey%3d91380001" style="margin: 0px\; padding: 0px\; outline: none\; text-decoration: none\; vertical-align: baseline\; color: rgb(0\, 96\, 169)\; transition: background-color 0.2s ease\, border 0.2s ease\, color 0.2s ease\, opacity 0.2s ease-in-out\;">Sign in</a>&nbsp\;for more information.</div>\n</div>\n</div>\n\n<div id="ContentPlaceHolder1_divcontact" style="margin: 0px\; padding: 0px\; border: 0px\; outline: 0px\; font-size: 16px\; vertical-align: baseline\; font-family: Arial\;">\n<div class="cdtopmargin" style="margin: 0px\; padding: 1rem 0px\; border: 0px\; outline: 0px\; vertical-align: baseline\;">\n<div style="margin: 0px\; padding: 0px\; border: 0px\; outline: 0px\; vertical-align: baseline\;">Phone: 434-395-2086</div>\n\n<div style="margin: 0px\; padding: 0px\; border: 0px\; outline: 0px\; vertical-align: baseline\;">Email:&nbsp\;<a href="mailto:sbdc@longwood.edu?subject=Building%20the%20Foundation%20for%20Your%20New%20Business%201%2F25%2F2018" style="margin: 0px\; padding: 0px\; outline: none\; text-decoration: none\; vertical-align: baseline\; color: rgb(0\, 96\, 169)\; transition: background-color 0.2s ease\, border 0.2s ease\, color 0.2s ease\, opacity 0.2s ease-in-out\;">sbdc@longwood.edu</a></div>\n</div>\n</div>\n
LOCATION:Southern Virginia Higher Education Center 820 Bruce Street South Boston\, VA 24592
UID:e.845.7189
SEQUENCE:3
DTSTAMP:20260422T105024Z
URL:https://business.halifaxchamber.net/events/details/building-the-foundation-for-your-new-business-7189
END:VEVENT

END:VCALENDAR
