BEGIN:VCALENDAR
VERSION:2.0
PRODID:-//ChamberMaster//Event Calendar 2.0//EN
METHOD:PUBLISH
X-PUBLISHED-TTL:P3D
REFRESH-INTERVAL:P3D
CALSCALE:GREGORIAN
BEGIN:VEVENT
DTSTART:20181024T213000Z
DTEND:20181024T230000Z
X-MICROSOFT-CDO-ALLDAYEVENT:FALSE
SUMMARY:Building the Foundation for Your New Business
DESCRIPTION:If you are considering starting a business\, this FREE seminar will provide valuable information that may help your business be among the 50% that survive.
X-ALT-DESC;FMTTYPE=text/html:If you are considering starting a business\, this FREE seminar will provide valuable information that may help your business be among the 50% that survive.&nbsp\;
LOCATION:SVHEC 820 Bruce Street South Boston\, VA 24592
UID:e.845.8510
SEQUENCE:3
DTSTAMP:20260421T190503Z
URL:https://business.halifaxchamber.net/events/details/building-the-foundation-for-your-new-business-8510
END:VEVENT

END:VCALENDAR
