BEGIN:VCALENDAR
VERSION:2.0
PRODID:-//ChamberMaster//Event Calendar 2.0//EN
METHOD:PUBLISH
X-PUBLISHED-TTL:P3D
REFRESH-INTERVAL:P3D
CALSCALE:GREGORIAN
BEGIN:VEVENT
DTSTART:20200123T223000Z
DTEND:20200124T000000Z
X-MICROSOFT-CDO-ALLDAYEVENT:FALSE
SUMMARY:Building the Foundation of Your New Business
DESCRIPTION:Join Longwood Small Business Development Center for this helpful workshop\n\n	Elevate your entrepreneurial abilities\n	Marketing strategies\n	Financial resources\n	Legal form of organization\n	Tips to prepare & present your business plan\n\nRegistration required athttps://clients.virginiasbdc.org/workshop.aspx?ekey=91400002
X-ALT-DESC;FMTTYPE=text/html:Join Longwood Small Business Development Center for this helpful workshop\n<ul>\n	<li>Elevate your entrepreneurial abilities</li>\n	<li>Marketing strategies</li>\n	<li>Financial resources</li>\n	<li>Legal form of organization</li>\n	<li>Tips to prepare &amp\; present your business plan</li>\n</ul>\nRegistration required at<a href="https://clients.virginiasbdc.org/workshop.aspx?ekey=91400002">https://clients.virginiasbdc.org/workshop.aspx?ekey=91400002</a>
LOCATION:Southern Virginia Higher Education Center Innovation Center 820 Bruce Street South Boston\, VA 24592
UID:e.845.15616
SEQUENCE:3
DTSTAMP:20260420T183443Z
URL:https://business.halifaxchamber.net/events/details/building-the-foundation-of-your-new-business-15616
END:VEVENT

END:VCALENDAR
