BEGIN:VCALENDAR
VERSION:2.0
PRODID:-//ChamberMaster//Event Calendar 2.0//EN
METHOD:PUBLISH
X-PUBLISHED-TTL:P3D
REFRESH-INTERVAL:P3D
CALSCALE:GREGORIAN
BEGIN:VEVENT
DTSTART:20180329T213000Z
DTEND:20180329T230000Z
X-MICROSOFT-CDO-ALLDAYEVENT:FALSE
SUMMARY:Building the Foundations For Your New Business
DESCRIPTION:Small Businesses play a vital role in the growth of our economy. Did you know that over 1 million businesses are started each year. The harsh reality is only about 20 percent survive past the first year. Planning is everything!\n\nIf you are considering starting a business\, this FREE seminar will provide valuable information that may help your business be among the 20% that survive.
X-ALT-DESC;FMTTYPE=text/html:Small Businesses play a vital role in the growth of our economy. Did you know that over 1 million businesses are started each year. The harsh reality is only about 20 percent survive past the first year. Planning is everything!<br />\nIf you are considering starting a business\, this FREE seminar will provide valuable information that may help your business be among the 20% that survive.
LOCATION:Southern Virginia Higher Education Center 820 Bruce Street 2nd Floor \, Hope Classroom South Boston\, VA 24592
UID:e.845.7242
SEQUENCE:3
DTSTAMP:20260422T052251Z
URL:https://business.halifaxchamber.net/events/details/building-the-foundations-for-your-new-business-7242
END:VEVENT

END:VCALENDAR
