BEGIN:VCALENDAR
VERSION:2.0
PRODID:-//ChamberMaster//Event Calendar 2.0//EN
METHOD:PUBLISH
X-PUBLISHED-TTL:P3D
REFRESH-INTERVAL:P3D
CALSCALE:GREGORIAN
BEGIN:VEVENT
DTSTART:20180303T003000Z
DTEND:20180303T023000Z
X-MICROSOFT-CDO-ALLDAYEVENT:FALSE
SUMMARY:Burn the Batteau
DESCRIPTION:Burn the Batteau is a blues power-trio consisting of Donnie Beadles\, Sammy Garcia and David Martin. Mixing both old school acoustics and modern electric sounds\, the band mixes original songs\, as well as classic blues covers\, to deliver a virtually encyclopedic blues experience.
X-ALT-DESC;FMTTYPE=text/html:Burn the Batteau is a blues power-trio consisting of Donnie Beadles\, Sammy Garcia and David Martin. Mixing both old school acoustics and modern electric sounds\, the band mixes original songs\, as well as classic blues covers\, to deliver a virtually encyclopedic blues experience.&nbsp\;
LOCATION:The Prizery 700 Bruce Street South Boston
UID:e.845.7197
SEQUENCE:3
DTSTAMP:20260422T051733Z
URL:https://business.halifaxchamber.net/events/details/burn-the-batteau-7197
END:VEVENT

END:VCALENDAR
