BEGIN:VCALENDAR
VERSION:2.0
PRODID:-//ChamberMaster//Event Calendar 2.0//EN
METHOD:PUBLISH
X-PUBLISHED-TTL:P3D
REFRESH-INTERVAL:P3D
CALSCALE:GREGORIAN
BEGIN:VEVENT
DTSTART:20150422T213000Z
DTEND:20150422T230000Z
X-MICROSOFT-CDO-ALLDAYEVENT:FALSE
SUMMARY:Business After Hours - April 22\, 2015
DESCRIPTION:Join us for Business After Hours on Wednesday\, April 22\, 2015\, 5:30 - 7pm\, sponsored by Halifax County Farm Bureau\, to be held at the Prizery.\n\n\n\nBusiness After Hours (BAH) is one of the Chamber's most popular networking events. Usually held on selected Thursdays of each month\, BAH is hosted by a different member business each time. These are free to attend and are usually from 5:30-7 p.m. Members are encouraged to come join us after work and be sure and bring plenty of business cards as you'll give them all out!
X-ALT-DESC;FMTTYPE=text/html:Join us for Business After Hours on Wednesday\, April 22\, 2015\, 5:30 - 7pm\, sponsored by Halifax County Farm Bureau\, to be held at the Prizery.<br />\n<br />\nBusiness After Hours (BAH) is one of the Chamber&rsquo\;s most popular networking events. Usually held on selected Thursdays of each month\, BAH is hosted by a different member business each time. These are <strong>free</strong> to attend and are usually from 5:30-7 p.m. Members are encouraged to come join us after work and be sure and bring plenty of business cards as you&rsquo\;ll give them all out!
LOCATION:The Prizery 700 Bruce Street\, South Boston
UID:e.845.2497
SEQUENCE:3
DTSTAMP:20260426T035548Z
URL:https://business.halifaxchamber.net/events/details/business-after-hours-april-22-2015-04-22-2015-2497
END:VEVENT

END:VCALENDAR
