BEGIN:VCALENDAR
VERSION:2.0
PRODID:-//ChamberMaster//Event Calendar 2.0//EN
METHOD:PUBLISH
X-PUBLISHED-TTL:P3D
REFRESH-INTERVAL:P3D
CALSCALE:GREGORIAN
BEGIN:VEVENT
DTSTART:20190418T213000Z
DTEND:20190418T230000Z
X-MICROSOFT-CDO-ALLDAYEVENT:FALSE
SUMMARY:Business After Hours-Blue Ridge Beverage\, Halifax County-South Boston Visitor Center and South Boston Speedway
DESCRIPTION:Join us for a networking event sponsored by Blue Ridge Beverage\, South Boston Halifax County Visitor Center\, and South Boston Speedway. \n\nDoor prizes\,
X-ALT-DESC;FMTTYPE=text/html:Join us for a networking event sponsored by Blue Ridge Beverage\, South Boston Halifax County Visitor Center\, and South Boston Speedway.&nbsp\;<br />\nDoor prizes\,&nbsp\;
LOCATION:
UID:e.845.11710
SEQUENCE:3
DTSTAMP:20260421T080318Z
URL:https://business.halifaxchamber.net/events/details/business-after-hours-blue-ridge-beverage-halifax-county-south-boston-visitor-center-and-south-boston-speedway-11710
END:VEVENT

END:VCALENDAR
