BEGIN:VCALENDAR
VERSION:2.0
PRODID:-//ChamberMaster//Event Calendar 2.0//EN
METHOD:PUBLISH
X-PUBLISHED-TTL:P3D
REFRESH-INTERVAL:P3D
CALSCALE:GREGORIAN
BEGIN:VEVENT
DTSTART:20200818T213000Z
DTEND:20200818T233000Z
X-MICROSOFT-CDO-ALLDAYEVENT:FALSE
SUMMARY:Business After Hours & Cantaloupe Celebration Kickoff
DESCRIPTION:Join us our for Business After Hours and our Cantaloupe Celebration on Tuesday\, August 18\, 5:30-7:30 pm\, at Springfield Distillery!\n\n \nNetworking | Cantaloupe Whiskey by Springfield Distillery | Cantaloupe Sangria by Hunting Creek Vineyards | Music by Matt Boswell | Food by D&D Skins | Door prizes | 50/50 Drawing\n \n\nWe ask that all attendees register in advance and practice social distancing during the event. Hand sanitizer will be provided.\n\n\n\nRSVP by Tuesday\, August 11.
X-ALT-DESC;FMTTYPE=text/html:Join us our for Business After Hours and our Cantaloupe Celebration on Tuesday\, August 18\, 5:30-7:30 pm\, at Springfield Distillery!<br />\n&nbsp\;\n<div style="text-align: center\;">Networking | Cantaloupe Whiskey by Springfield Distillery | Cantaloupe Sangria by Hunting Creek Vineyards | Music by Matt Boswell&nbsp\;|&nbsp\;Food by D&amp\;D Skins | Door prizes&nbsp\;<span style="text-align: center\;">| 50/50 Drawing</span></div>\n&nbsp\;<br />\nWe ask that all attendees register in advance and practice social distancing during the event. Hand sanitizer will be provided.<br />\n<br />\nRSVP by Tuesday\, August 11.
LOCATION:Springfield Distillery 9040 River Road Halifax\, VA 24558
UID:e.845.17721
SEQUENCE:3
DTSTAMP:20260420T050523Z
URL:https://business.halifaxchamber.net/events/details/business-after-hours-cantaloupe-celebration-kickoff-17721
END:VEVENT

END:VCALENDAR
