BEGIN:VCALENDAR
VERSION:2.0
PRODID:-//ChamberMaster//Event Calendar 2.0//EN
METHOD:PUBLISH
X-PUBLISHED-TTL:P3D
REFRESH-INTERVAL:P3D
CALSCALE:GREGORIAN
BEGIN:VEVENT
DTSTART:20190606T213000Z
DTEND:20190606T230000Z
X-MICROSOFT-CDO-ALLDAYEVENT:FALSE
SUMMARY:Business After Hours-Commonwealth Home Health\, Destination Downtown\, and Fincher's Inc.
DESCRIPTION:Join Commonwealth Home Health\, Destination Downtown\, & Fincher's Inc. on North Main Street for the June Business After Hours event! \n\nNorth Main Street will be closed for this event. In the event of rain\, it will be held inside Raab Properties - 508 N. Main Street.\n\nRefreshments\, networking\, door prizes and more!
X-ALT-DESC;FMTTYPE=text/html:Join Commonwealth Home Health\, Destination Downtown\, &amp\; Fincher&#39\;s Inc. on North Main Street for the June Business After Hours event!&nbsp\;<br />\nNorth Main Street will be closed for this event. In the event of rain\, it will be held inside Raab Properties - 508 N. Main Street.<br />\nRefreshments\, networking\, door prizes and more!&nbsp\;
LOCATION:North Main Street South Boston\, VA 24592
UID:e.845.12491
SEQUENCE:3
DTSTAMP:20260421T044742Z
URL:https://business.halifaxchamber.net/events/details/business-after-hours-commonwealth-home-health-destination-downtown-and-fincher-s-inc-12491
END:VEVENT

END:VCALENDAR
