BEGIN:VCALENDAR
VERSION:2.0
PRODID:-//ChamberMaster//Event Calendar 2.0//EN
METHOD:PUBLISH
X-PUBLISHED-TTL:P3D
REFRESH-INTERVAL:P3D
CALSCALE:GREGORIAN
BEGIN:VEVENT
DTSTART:20180628T213000Z
DTEND:20180628T230000Z
X-MICROSOFT-CDO-ALLDAYEVENT:FALSE
SUMMARY:Business After Hours-Destination Downtown South Boston/Team Nurse Business After Hours
DESCRIPTION:Business After Hours event in the park with Destination Downtown South Boston and Team Nurse! Come enjoy BBQ and all the fixings\, networking\, door prizes and more!
X-ALT-DESC;FMTTYPE=text/html:Business After Hours event in the park with Destination Downtown South Boston and Team Nurse! Come enjoy BBQ and all the fixings\, networking\, door prizes and more!&nbsp\;&nbsp\;&nbsp\;&nbsp\;
LOCATION:Downtown Park Across from Domino's Pizza beside the old Bank of America building.
UID:e.845.8459
SEQUENCE:3
DTSTAMP:20260422T000839Z
URL:https://business.halifaxchamber.net/events/details/business-after-hours-destination-downtown-south-boston-team-nurse-business-after-hours-8459
END:VEVENT

END:VCALENDAR
