BEGIN:VCALENDAR
VERSION:2.0
PRODID:-//ChamberMaster//Event Calendar 2.0//EN
METHOD:PUBLISH
X-PUBLISHED-TTL:P3D
REFRESH-INTERVAL:P3D
CALSCALE:GREGORIAN
BEGIN:VEVENT
DTSTART:20181108T223000Z
DTEND:20181109T000000Z
X-MICROSOFT-CDO-ALLDAYEVENT:FALSE
SUMMARY:Business After Hours hosted by Foster Fuels and Springfield Distillery
DESCRIPTION:Join us for our Business After Hours event hosted by Foster Fuels and Springfield Distillery! \n\n\n\nBusiness After Hours (BAH) is the premier networking event in Halifax County and one of the Halifax County Chamber's most popular programs. These gatherings are beneficial to the community and especially to Chamber members who use this time to network\, communicate and share information about their businesses.
X-ALT-DESC;FMTTYPE=text/html:Join us for our Business After Hours event hosted by Foster Fuels and Springfield Distillery!&nbsp\;<br />\n<br />\n<span style="color: rgb(0\, 0\, 0)\;">Business After Hours (BAH) is the premier networking event in Halifax County and one of the Halifax County Chamber&rsquo\;s most popular programs. These gatherings are beneficial to the community and especially to Chamber members who use this time to network\, communicate and share information about their businesses.</span><br />\n&nbsp\;
LOCATION:Springfield Distillery 9040 River Road Halifax\, VA 24558
UID:e.845.8550
SEQUENCE:3
DTSTAMP:20260421T153857Z
URL:https://business.halifaxchamber.net/events/details/business-after-hours-hosted-by-foster-fuels-and-springfield-distillery-8550
END:VEVENT

END:VCALENDAR
