BEGIN:VCALENDAR
VERSION:2.0
PRODID:-//ChamberMaster//Event Calendar 2.0//EN
METHOD:PUBLISH
X-PUBLISHED-TTL:P3D
REFRESH-INTERVAL:P3D
CALSCALE:GREGORIAN
BEGIN:VEVENT
DTSTART:20151119T223000Z
DTEND:20151120T000000Z
X-MICROSOFT-CDO-ALLDAYEVENT:FALSE
SUMMARY:Business After Hours - November 19 - Sponsored by Cardiovascular Services at Sentara Halifax Regional Hospital
DESCRIPTION:Join us for Business After Hours on Thursday\, November 19\, 2015 from 5:30 - 7pm. November's Business After Hours is sponsored by Cardiovascular Services at Sentara Halifax Regional Hospital in the Leggett Auditorium.\n\n\n\nBusiness After Hours (BAH) is one of the Chamber's most popular networking events. Usually held on selected Thursdays of each month\, BAH is hosted by a different member business each time. These are free to attend and are usually from 5:30-7 p.m. Members are encouraged to come join us after work and be sure and bring plenty of business cards as you'll give them all out!
X-ALT-DESC;FMTTYPE=text/html:Join us for Business After Hours on Thursday\, November 19\, 2015 from 5:30 - 7pm. November&#39\;s Business After Hours is sponsored by&nbsp\;Cardiovascular Services at Sentara Halifax Regional Hospital in the Leggett Auditorium.<br />\n<br />\nBusiness After Hours (BAH) is one of the Chamber&rsquo\;s most popular networking events. Usually held on selected Thursdays of each month\, BAH is hosted by a different member business each time. These are <strong>free</strong> to attend and are usually from 5:30-7 p.m. Members are encouraged to come join us after work and be sure and bring plenty of business cards as you&rsquo\;ll give them all out!
LOCATION:Sentara Halifax Regional Hospital Leggett Auditorium 2204 Wilborn Ave. South Boston\, VA 24592
UID:e.845.4555
SEQUENCE:3
DTSTAMP:20260425T163126Z
URL:https://business.halifaxchamber.net/events/details/business-after-hours-november-19-sponsored-by-cardiovascular-services-at-sentara-halifax-regional-hospital-11-19-2015-4555
END:VEVENT

END:VCALENDAR
