BEGIN:VCALENDAR
VERSION:2.0
PRODID:-//ChamberMaster//Event Calendar 2.0//EN
METHOD:PUBLISH
X-PUBLISHED-TTL:P3D
REFRESH-INTERVAL:P3D
CALSCALE:GREGORIAN
BEGIN:VEVENT
DTSTART:20190523T213000Z
DTEND:20190523T230000Z
X-MICROSOFT-CDO-ALLDAYEVENT:FALSE
SUMMARY:Business After Hours-Rogers Heating & Cooling and SVHEC
DESCRIPTION:Join Rogers Heating & Cooling and SVHEC at the Prizery for the May Business After Hours event! \n\n\n\nRefreshments\, netowrking\, door prizes and more!
X-ALT-DESC;FMTTYPE=text/html:Join Rogers Heating &amp\; Cooling and SVHEC at the Prizery for the May Business After Hours event!&nbsp\;<br />\n<br />\nRefreshments\, netowrking\, door prizes and more!&nbsp\;
LOCATION:The Prizery\, Art Gallery 700 Bruce Street South Boston\, VA 24592
UID:e.845.12471
SEQUENCE:3
DTSTAMP:20260421T080026Z
URL:https://business.halifaxchamber.net/events/details/business-after-hours-rogers-heating-cooling-and-svhec-12471
END:VEVENT

END:VCALENDAR
