BEGIN:VCALENDAR
VERSION:2.0
PRODID:-//ChamberMaster//Event Calendar 2.0//EN
METHOD:PUBLISH
X-PUBLISHED-TTL:P3D
REFRESH-INTERVAL:P3D
CALSCALE:GREGORIAN
BEGIN:VEVENT
DTSTART:20160818T213000Z
DTEND:20160818T230000Z
X-MICROSOFT-CDO-ALLDAYEVENT:FALSE
SUMMARY:Business After Hours - Sponsored by Commonwealth Assisted Living & Gentiva Home Health
DESCRIPTION:Join us for Business After Hours on Thursday\, August 18th\, from 5:30 - 7pm\, sponsored by Commonwealth Assisted Living & Gentiva Home Health.\n\n\n\nBusiness After Hours (BAH) is one of the Chamber's most popular networking events. Usually held on selected Thursdays of each month\, BAH is hosted by a different member business each time. These are free to attend and are usually from 5:30-7 p.m. Members are encouraged to come join us after work and be sure and bring plenty of business cards as you'll give them all out!
X-ALT-DESC;FMTTYPE=text/html:Join us for Business After Hours on Thursday\, August 18th\, from&nbsp\;5:30 - 7pm\, sponsored by Commonwealth Assisted Living &amp\; Gentiva Home Health.<br />\n<br />\nBusiness After Hours (BAH) is one of the Chamber&rsquo\;s most popular networking events. Usually held on selected Thursdays of each month\, BAH is hosted by a different member business each time. These are free to attend and are usually from 5:30-7 p.m. Members are encouraged to come join us after work and be sure and bring plenty of business cards as you&rsquo\;ll give them all out!
LOCATION:To be held at Commonwealth Assisted Living 435 Hamilton Blvd. South Boston\, VA 24592
UID:e.845.4678
SEQUENCE:3
DTSTAMP:20260425T004343Z
URL:https://business.halifaxchamber.net/events/details/business-after-hours-sponsored-by-commonwealth-assisted-living-gentiva-home-health-08-18-2016-4678
END:VEVENT

END:VCALENDAR
