BEGIN:VCALENDAR
VERSION:2.0
PRODID:-//ChamberMaster//Event Calendar 2.0//EN
METHOD:PUBLISH
X-PUBLISHED-TTL:P3D
REFRESH-INTERVAL:P3D
CALSCALE:GREGORIAN
BEGIN:VEVENT
DTSTART:20171102T213000Z
DTEND:20171102T230000Z
X-MICROSOFT-CDO-ALLDAYEVENT:FALSE
SUMMARY:Business After Hours - Sponsored by Foster Fuels & Springfield Distillery
DESCRIPTION:Join us for Business After Hours on Thursday\, November 2\, 2017\, 5:30 - 7:00pm. November's Business After Hours is sponsored by Foster Fuels and Springfield Distillery. It will be held at Springfield Distillery.\n\n\n\n\n\nBusiness After Hours (BAH) is one of the Chamber's most popular networking events. Usually held on selected Thursdays of each month\, BAH is hosted by a different member business each time. These are free to attend and are usually from 5:30-7 p.m. Members are encouraged to come join us after work and be sure and bring plenty of business cards as you'll give them all out!
X-ALT-DESC;FMTTYPE=text/html:Join us for Business After Hours on Thursday\, November 2\, 2017\, 5:30 - 7:00pm. November&#39\;s Business After Hours is sponsored by Foster Fuels and Springfield Distillery. It will be held at Springfield Distillery.<br />\n<br />\n<br />\nBusiness After Hours (BAH) is one of the Chamber&rsquo\;s most popular networking events. Usually held on selected Thursdays of each month\, BAH is hosted by a different member business each time. These are free to attend and are usually from 5:30-7 p.m. Members are encouraged to come join us after work and be sure and bring plenty of business cards as you&rsquo\;ll give them all out!
LOCATION:Springfield Distillery 9040 River Road Halifax\, VA 24558
UID:e.845.7037
SEQUENCE:3
DTSTAMP:20260422T121341Z
URL:https://business.halifaxchamber.net/events/details/business-after-hours-sponsored-by-foster-fuels-springfield-distillery-7037
END:VEVENT

END:VCALENDAR
