BEGIN:VCALENDAR
VERSION:2.0
PRODID:-//ChamberMaster//Event Calendar 2.0//EN
METHOD:PUBLISH
X-PUBLISHED-TTL:P3D
REFRESH-INTERVAL:P3D
CALSCALE:GREGORIAN
BEGIN:VEVENT
DTSTART:20180524T213000Z
DTEND:20180524T230000Z
X-MICROSOFT-CDO-ALLDAYEVENT:FALSE
SUMMARY:Business After Hours - Sponsored by Halifax County Farm Bureau & The Prizery
DESCRIPTION:Join us for Business After Hours on Thursday\, May 24th\, from 5:30 - 7pm\, sponsored by Halifax County Farm Bureau and The Prizery.\n\n\n\nBusiness After Hours (BAH) is one of the Chamber's most popular networking events. Usually held on selected Thursdays of each month\, BAH is hosted by a different member business each time. These are free to attend and are usually from 5:30-7 p.m. Members are encouraged to come join us after work and be sure and bring plenty of business cards as you'll give them all out!
X-ALT-DESC;FMTTYPE=text/html:Join us for Business After Hours on Thursday\, May 24th\, from&nbsp\;5:30 - 7pm\, sponsored by Halifax County Farm Bureau and The&nbsp\;Prizery.<br />\n<br />\nBusiness After Hours (BAH) is one of the Chamber&rsquo\;s most popular networking events. Usually held on selected Thursdays of each month\, BAH is hosted by a different member business each time. These are free to attend and are usually from 5:30-7 p.m. Members are encouraged to come join us after work and be sure and bring plenty of business cards as you&rsquo\;ll give them all out!
LOCATION:The Prizery 700 Bruce Street South Boston\, VA 24592
UID:e.845.8281
SEQUENCE:3
DTSTAMP:20260422T015145Z
URL:https://business.halifaxchamber.net/events/details/business-after-hours-sponsored-by-halifax-county-farm-bureau-the-prizery-8281
END:VEVENT

END:VCALENDAR
