BEGIN:VCALENDAR
VERSION:2.0
PRODID:-//ChamberMaster//Event Calendar 2.0//EN
METHOD:PUBLISH
X-PUBLISHED-TTL:P3D
REFRESH-INTERVAL:P3D
CALSCALE:GREGORIAN
BEGIN:VEVENT
DTSTART:20180131T223000Z
DTEND:20180201T000000Z
X-MICROSOFT-CDO-ALLDAYEVENT:FALSE
SUMMARY:Business After Hours - Sponsored by Harris\, Harvey\, Neal & Co.
DESCRIPTION:Join us for Business After Hours on Wednesday\, January 31st from 5:30 - 7:00pm. This month's event is sponsored by Harris\, Harvey\, Neal & Co. and will be held at their new office in South Boston.\n\n\n\nBusiness After Hours (BAH) is one of the Chamber's most popular networking events. Usually held on selected Thursdays of each month\, BAH is hosted by a different member business each time. These are free to attend and are usually from 5:30-7 p.m. Members are encouraged to come join us after work and be sure and bring plenty of business cards as you'll give them all out!
X-ALT-DESC;FMTTYPE=text/html:Join us for Business After Hours on Wednesday\,&nbsp\;January 31st&nbsp\;from&nbsp\;5:30 - 7:00pm. This month&#39\;s event is&nbsp\;sponsored by Harris\, Harvey\, Neal &amp\; Co. and&nbsp\;will be&nbsp\;held at their new office&nbsp\;in South Boston.<br />\n<br />\nBusiness After Hours (BAH) is one of the Chamber&rsquo\;s most popular networking events. Usually held on selected Thursdays of each month\, BAH is hosted by a different member business each time. These are&nbsp\;<strong>free</strong>&nbsp\;to attend and are usually from 5:30-7 p.m. Members are encouraged to come join us after work and be sure and bring plenty of business cards as you&rsquo\;ll give them all out!
LOCATION:Harris\, Harvey\, Neal & Co. 523 Edmunds Street South Boston\, VA
UID:e.845.7169
SEQUENCE:3
DTSTAMP:20260422T092857Z
URL:https://business.halifaxchamber.net/events/details/business-after-hours-sponsored-by-harris-harvey-neal-co-7169
END:VEVENT

END:VCALENDAR
