BEGIN:VCALENDAR
VERSION:2.0
PRODID:-//ChamberMaster//Event Calendar 2.0//EN
METHOD:PUBLISH
X-PUBLISHED-TTL:P3D
REFRESH-INTERVAL:P3D
CALSCALE:GREGORIAN
BEGIN:VEVENT
DTSTART:20180215T223000Z
DTEND:20180216T000000Z
X-MICROSOFT-CDO-ALLDAYEVENT:FALSE
SUMMARY:Business After Hours - Sponsored by Sentara Halifax Regional Hospital
DESCRIPTION:Join us for Business After Hours on Thursday\, February 15\, 2018 from 5:30 - 7pm. February's Business After Hours is sponsored by Sentara Halifax Regional Hospital in the Leggett Auditorium.\n\n\n\nHelp Sentara Halifax celebrate their 65th Anniverary!
X-ALT-DESC;FMTTYPE=text/html:Join us for Business After Hours on Thursday\, February 15\, 2018 from 5:30 - 7pm. February&#39\;s Business After Hours is sponsored by&nbsp\;Sentara Halifax Regional Hospital in the Leggett Auditorium.<br />\n<br />\nHelp Sentara&nbsp\;Halifax celebrate their 65th&nbsp\;Anniverary!&nbsp\;
LOCATION:Sentara Halifax Regional Hospital Leggett Auditorium 2204 Wilborn Ave. South Boston\, VA 24592
UID:e.845.7170
SEQUENCE:3
DTSTAMP:20260422T073016Z
URL:https://business.halifaxchamber.net/events/details/business-after-hours-sponsored-by-sentara-halifax-regional-hospital-7170
END:VEVENT

END:VCALENDAR
