BEGIN:VCALENDAR
VERSION:2.0
PRODID:-//ChamberMaster//Event Calendar 2.0//EN
METHOD:PUBLISH
X-PUBLISHED-TTL:P3D
REFRESH-INTERVAL:P3D
CALSCALE:GREGORIAN
BEGIN:VEVENT
DTSTART:20170223T223000Z
DTEND:20170224T000000Z
X-MICROSOFT-CDO-ALLDAYEVENT:FALSE
SUMMARY:Business After Hours - Sponsored by Sentara Heart
DESCRIPTION:Join us for Business After Hours on Thursday\, February 23\, 2017 from 5:30 - 7pm. February's Business After Hours is sponsored by Sentara Heart at Sentara Halifax Regional Hospital in the Leggett Auditorium.
X-ALT-DESC;FMTTYPE=text/html:Join us for Business After Hours on Thursday\, February 23\, 2017 from 5:30 - 7pm. February&#39\;s Business After Hours is sponsored by&nbsp\;Sentara Heart at&nbsp\;Sentara&nbsp\;Halifax Regional Hospital in the Leggett Auditorium.
LOCATION:Sentara Halifax Regional Hospital Leggett Auditorium 2204 Wilborn Ave. South Boston\, VA 24592
UID:e.845.5771
SEQUENCE:3
DTSTAMP:20260424T145610Z
URL:https://business.halifaxchamber.net/events/details/business-after-hours-sponsored-by-sentara-heart-5771
END:VEVENT

END:VCALENDAR
