BEGIN:VCALENDAR
VERSION:2.0
PRODID:-//ChamberMaster//Event Calendar 2.0//EN
METHOD:PUBLISH
X-PUBLISHED-TTL:P3D
REFRESH-INTERVAL:P3D
CALSCALE:GREGORIAN
BEGIN:VEVENT
DTSTART:20170608T213000Z
DTEND:20170608T230000Z
X-MICROSOFT-CDO-ALLDAYEVENT:FALSE
SUMMARY:Business After Hours - Sponsored by TMI AutoTech\, Inc.
DESCRIPTION:Join us for Business After Hours on Thursday\, June 8\, from 5:30 - 7pm\, sponsored by TMI AutoTech\, Inc.
X-ALT-DESC;FMTTYPE=text/html:Join us for Business After Hours on Thursday\, June 8\, from&nbsp\;5:30 - 7pm\, sponsored by TMI&nbsp\;AutoTech\, Inc.
LOCATION:TMI AutoTech\, Inc. 1201 Industrial Park Road South Boston\, VA 24592
UID:e.845.5886
SEQUENCE:3
DTSTAMP:20260422T212430Z
URL:https://business.halifaxchamber.net/events/details/business-after-hours-sponsored-by-tmi-autotech-inc-5886
END:VEVENT

END:VCALENDAR
