BEGIN:VCALENDAR
VERSION:2.0
PRODID:-//ChamberMaster//Event Calendar 2.0//EN
METHOD:PUBLISH
X-PUBLISHED-TTL:P3D
REFRESH-INTERVAL:P3D
CALSCALE:GREGORIAN
BEGIN:VEVENT
DTSTART:20171207T223000Z
DTEND:20171208T000000Z
X-MICROSOFT-CDO-ALLDAYEVENT:FALSE
SUMMARY:Business After Hours - Sponsored by URW Community Federal Credit Union
DESCRIPTION:Join us for Business After Hours on Thursday\, December 7th from 5:30 - 7pm. This month's event is sponsored by URW Community Federal Credit Union and will be held at their office in South Boston.\n\n\n\nBusiness After Hours (BAH) is one of the Chamber's most popular networking events. Usually held on selected Thursdays of each month\, BAH is hosted by a different member business each time. These are free to attend and are usually from 5:30-7 p.m. Members are encouraged to come join us after work and be sure and bring plenty of business cards as you'll give them all out!
X-ALT-DESC;FMTTYPE=text/html:Join us for Business After Hours on Thursday\,&nbsp\;December 7th from&nbsp\;5:30 - 7pm. This month&#39\;s event is&nbsp\;sponsored by&nbsp\;URW Community Federal Credit Union&nbsp\;and&nbsp\;will be&nbsp\;held at their office&nbsp\;in South Boston.<br />\n<br />\nBusiness After Hours (BAH) is one of the Chamber&rsquo\;s most popular networking events. Usually held on selected Thursdays of each month\, BAH is hosted by a different member business each time. These are&nbsp\;<strong>free</strong>&nbsp\;to attend and are usually from 5:30-7 p.m. Members are encouraged to come join us after work and be sure and bring plenty of business cards as you&rsquo\;ll give them all out!
LOCATION:URW Community Federal Credit Union 4018 Halifax Road South Boston\, VA 24592
UID:e.845.5888
SEQUENCE:3
DTSTAMP:20260422T105258Z
URL:https://business.halifaxchamber.net/events/details/business-after-hours-sponsored-by-urw-community-federal-credit-union-5888
END:VEVENT

END:VCALENDAR
