BEGIN:VCALENDAR
VERSION:2.0
PRODID:-//ChamberMaster//Event Calendar 2.0//EN
METHOD:PUBLISH
X-PUBLISHED-TTL:P3D
REFRESH-INTERVAL:P3D
CALSCALE:GREGORIAN
BEGIN:VEVENT
DTSTART:20180830T213000Z
DTEND:20180830T230000Z
X-MICROSOFT-CDO-ALLDAYEVENT:FALSE
SUMMARY:Business After Hours-SVHEF and Halifax County Chamber of Commerce
DESCRIPTION:Hosted by the Southern Higher Education Foundation and the Halifax County Chamber of Commerce.
X-ALT-DESC;FMTTYPE=text/html:Hosted by the Southern Higher Education Foundation and the Halifax County Chamber of Commerce.&nbsp\;&nbsp\;&nbsp\;&nbsp\;&nbsp\;
LOCATION:820 Bruce Street\, South Boston\, VA In the SVHEF and Chamber office area
UID:e.845.8465
SEQUENCE:3
DTSTAMP:20260421T204600Z
URL:https://business.halifaxchamber.net/events/details/business-after-hours-svhef-and-halifax-county-chamber-of-commerce-8465
END:VEVENT

END:VCALENDAR
