BEGIN:VCALENDAR
VERSION:2.0
PRODID:-//ChamberMaster//Event Calendar 2.0//EN
METHOD:PUBLISH
X-PUBLISHED-TTL:P3D
REFRESH-INTERVAL:P3D
CALSCALE:GREGORIAN
BEGIN:VEVENT
DTSTART:20200123T223000Z
DTEND:20200124T000000Z
X-MICROSOFT-CDO-ALLDAYEVENT:FALSE
SUMMARY:Business After Hours with Bagwell & Bagwell
DESCRIPTION:Join us for a Business After Hours event hosted by Bagwell & Bagwell. These events provide networking opportunities for members to meet and discuss topics in a relaxed atmosphere while learning about hosts and what they have to offer in our community. \n\nEnjoy food\, beverages\, door prizes and a 50/50 raffle during the event! \n\nNot a member? Ask us about attending a prospective member!
X-ALT-DESC;FMTTYPE=text/html:<span style="box-sizing: border-box\; letter-spacing: 0.5px\; color: rgb(29\, 33\, 41)\; font-family: system-ui\, -apple-system\, system-ui\, &quot\;.SFNSText-Regular&quot\;\, sans-serif\; font-size: 14px\; white-space: pre-wrap\;">Join us for a Business After Hours event hosted by Bagwell &amp\; Bagwell. These events provide networking opportunities for members to meet and discuss topics in a relaxed atmosphere while learning about hosts and what they have to offer in our community. </span><br style="box-sizing: border-box\; letter-spacing: 0.5px\; color: rgb(29\, 33\, 41)\; font-family: system-ui\, -apple-system\, system-ui\, &quot\;.SFNSText-Regular&quot\;\, sans-serif\; font-size: 14px\; white-space: pre-wrap\;" />\n<span style="box-sizing: border-box\; letter-spacing: 0.5px\; color: rgb(29\, 33\, 41)\; font-family: system-ui\, -apple-system\, system-ui\, &quot\;.SFNSText-Regular&quot\;\, sans-serif\; font-size: 14px\; white-space: pre-wrap\;">Enjoy food\, beverages\, door prizes and a 50/50 raffle during the event! </span><br style="box-sizing: border-box\; letter-spacing: 0.5px\; color: rgb(29\, 33\, 41)\; font-family: system-ui\, -apple-system\, system-ui\, &quot\;.SFNSText-Regular&quot\;\, sans-serif\; font-size: 14px\; white-space: pre-wrap\;" />\n<span style="box-sizing: border-box\; letter-spacing: 0.5px\; color: rgb(29\, 33\, 41)\; font-family: system-ui\, -apple-system\, system-ui\, &quot\;.SFNSText-Regular&quot\;\, sans-serif\; font-size: 14px\; white-space: pre-wrap\;">Not a member? Ask us about attending a prospective member! </span>
LOCATION:Bagwell & Bagwell 47 S. Main Street Halifax\, VA 24558
UID:e.845.15532
SEQUENCE:3
DTSTAMP:20260420T183217Z
URL:https://business.halifaxchamber.net/events/details/business-after-hours-with-bagwell-bagwell-15532
END:VEVENT

END:VCALENDAR
