BEGIN:VCALENDAR
VERSION:2.0
PRODID:-//ChamberMaster//Event Calendar 2.0//EN
METHOD:PUBLISH
X-PUBLISHED-TTL:P3D
REFRESH-INTERVAL:P3D
CALSCALE:GREGORIAN
BEGIN:VEVENT
DTSTART:20191002T213000Z
DTEND:20191002T230000Z
X-MICROSOFT-CDO-ALLDAYEVENT:FALSE
SUMMARY:Business After Hours with Huber
DESCRIPTION:Join Huber Engineered Woods for Business After Hours at Molasses Grill.
X-ALT-DESC;FMTTYPE=text/html:Join Huber Engineered Woods for Business After Hours at Molasses Grill.
LOCATION:Molasses Grill 63 South Main Street Halifax\, VA 24558
UID:e.845.13288
SEQUENCE:3
DTSTAMP:20260420T220020Z
URL:https://business.halifaxchamber.net/events/details/business-after-hours-with-huber-13288
END:VEVENT

END:VCALENDAR
