BEGIN:VCALENDAR
VERSION:2.0
PRODID:-//ChamberMaster//Event Calendar 2.0//EN
METHOD:PUBLISH
X-PUBLISHED-TTL:P3D
REFRESH-INTERVAL:P3D
CALSCALE:GREGORIAN
BEGIN:VEVENT
DTSTART:20200220T223000Z
DTEND:20200221T000000Z
X-MICROSOFT-CDO-ALLDAYEVENT:FALSE
SUMMARY:Business After Hours with Sentara Halifax Regional Hospital
DESCRIPTION:Join Sentara Halifax Regional Hospital as they celebrate Heart Month with a Business After Hours event! The event will be held in the Leggett Auditorium. \n\nEnjoy networking\, appetizers\, beverages\, door prizes and more! \n\nPlease RSVP by February 17\, 2020.
X-ALT-DESC;FMTTYPE=text/html:Join Sentara Halifax Regional Hospital as they celebrate Heart Month with a Business After Hours event! The event will be held in the Leggett Auditorium.&nbsp\;<br />\nEnjoy networking\, appetizers\, beverages\, door prizes and more!&nbsp\;<br />\nPlease RSVP by February 17\, 2020.&nbsp\;
LOCATION:
UID:e.845.15540
SEQUENCE:3
DTSTAMP:20260420T165613Z
URL:https://business.halifaxchamber.net/events/details/business-after-hours-with-sentara-halifax-regional-hospital-15540
END:VEVENT

END:VCALENDAR
