BEGIN:VCALENDAR
VERSION:2.0
PRODID:-//ChamberMaster//Event Calendar 2.0//EN
METHOD:PUBLISH
X-PUBLISHED-TTL:P3D
REFRESH-INTERVAL:P3D
CALSCALE:GREGORIAN
BEGIN:VEVENT
DTSTART:20190711T213000Z
DTEND:20190711T230000Z
X-MICROSOFT-CDO-ALLDAYEVENT:FALSE
SUMMARY:Business After Hours with Sentara Woodview
DESCRIPTION:Join Sentara Woodview for the July Business After Hours event! Enjoy beverages\, food\, networking and more while you learn more about their facility and their building improvements. \n\nThe event will be held on the right side of the facility in the picnic area. If the weather will not allow an outside event\, it will move to the therapy gym.
X-ALT-DESC;FMTTYPE=text/html:Join Sentara Woodview for the July Business After Hours event! Enjoy beverages\, food\, networking and more while you learn more about their facility and their building improvements.&nbsp\;<br />\nThe event will be held on the right side of the facility in the picnic area. If the weather will not allow an outside event\, it will move to the therapy gym.&nbsp\;
LOCATION:Sentara Woodview 103 Rosehill Drive South Boston\, VA
UID:e.845.12695
SEQUENCE:3
DTSTAMP:20260421T031348Z
URL:https://business.halifaxchamber.net/events/details/business-after-hours-with-sentara-woodview-12695
END:VEVENT

END:VCALENDAR
