BEGIN:VCALENDAR
VERSION:2.0
PRODID:-//ChamberMaster//Event Calendar 2.0//EN
METHOD:PUBLISH
X-PUBLISHED-TTL:P3D
REFRESH-INTERVAL:P3D
CALSCALE:GREGORIAN
BEGIN:VEVENT
DTSTART:20190822T213000Z
DTEND:20190822T230000Z
X-MICROSOFT-CDO-ALLDAYEVENT:FALSE
SUMMARY:Business After Hours with Southstone Behavioral Health
DESCRIPTION:Business After Hours at Southstone Behavioral Healthcare. \n\nEnjoy networking\, door prizes\, refreshments and more!
X-ALT-DESC;FMTTYPE=text/html:Business After Hours at Southstone Behavioral Healthcare.&nbsp\;<br />\nEnjoy networking\, door prizes\, refreshments and more!&nbsp\;
LOCATION:Southstone Behavioral Health 3046 Carlbrook Rd South Boston\, VA 24592
UID:e.845.13198
SEQUENCE:3
DTSTAMP:20260421T031537Z
URL:https://business.halifaxchamber.net/events/details/business-after-hours-with-southstone-behavioral-health-13198
END:VEVENT

END:VCALENDAR
