BEGIN:VCALENDAR
VERSION:2.0
PRODID:-//ChamberMaster//Event Calendar 2.0//EN
METHOD:PUBLISH
X-PUBLISHED-TTL:P3D
REFRESH-INTERVAL:P3D
CALSCALE:GREGORIAN
BEGIN:VEVENT
DTSTART:20191212T223000Z
DTEND:20191213T000000Z
X-MICROSOFT-CDO-ALLDAYEVENT:FALSE
SUMMARY:Business After Hours with URW
DESCRIPTION:Join URW Community Federal Credit Union for the Holiday Business After Hours Networking event!
X-ALT-DESC;FMTTYPE=text/html:Join URW Community Federal Credit Union for the Holiday Business After Hours Networking event!
LOCATION:URW 4018 Halifax Road South Boston\, VA 24592
UID:e.845.15508
SEQUENCE:3
DTSTAMP:20260420T182202Z
URL:https://business.halifaxchamber.net/events/details/business-after-hours-with-urw-15508
END:VEVENT

END:VCALENDAR
