BEGIN:VCALENDAR
VERSION:2.0
PRODID:-//ChamberMaster//Event Calendar 2.0//EN
METHOD:PUBLISH
X-PUBLISHED-TTL:P3D
REFRESH-INTERVAL:P3D
CALSCALE:GREGORIAN
BEGIN:VEVENT
DTSTART:20201103T133000Z
DTEND:20201103T133000Z
X-MICROSOFT-CDO-ALLDAYEVENT:FALSE
SUMMARY:Business an Economic Research Tools at Longwood
DESCRIPTION:Ever wondered what we really do for our clients and community? Come enjoy some coffee and chat with us as we discuss an array of databases and resources that address daunting questions for business owners like:\n\n  How much should I be budgeting for payroll?\n\n  What does the future of my business look like?\n\n  How do I effectively price my products/service?\n\n  Should I partner with others to make my business a reality?\n\n  How do I market to my customers?\n\n\n\nOr questions for economic development professionals as they assess:\n\n  Supply Chain opportunities for business recruitment and development\n\n  Workforce commuting patterns\n\n  Wage rates and labor pool availability for specific industries
X-ALT-DESC;FMTTYPE=text/html:<span style="color: rgb(35\, 35\, 51)\; font-family: Lato\, Helvetica\, Arial\; font-size: 14px\;">Ever wondered what we really do for our clients and community? Come enjoy some coffee and chat with us as we discuss an array of databases and resources that address daunting questions for business owners like:</span><br style="box-sizing: border-box\; color: rgb(35\, 35\, 51)\; font-family: Lato\, Helvetica\, Arial\; font-size: 14px\;" />\n<span style="color: rgb(35\, 35\, 51)\; font-family: Lato\, Helvetica\, Arial\; font-size: 14px\;">&bull\; How much should I be budgeting for payroll?</span><br style="box-sizing: border-box\; color: rgb(35\, 35\, 51)\; font-family: Lato\, Helvetica\, Arial\; font-size: 14px\;" />\n<span style="color: rgb(35\, 35\, 51)\; font-family: Lato\, Helvetica\, Arial\; font-size: 14px\;">&bull\; What does the future of my business look like?</span><br style="box-sizing: border-box\; color: rgb(35\, 35\, 51)\; font-family: Lato\, Helvetica\, Arial\; font-size: 14px\;" />\n<span style="color: rgb(35\, 35\, 51)\; font-family: Lato\, Helvetica\, Arial\; font-size: 14px\;">&bull\; How do I effectively price my products/service?</span><br style="box-sizing: border-box\; color: rgb(35\, 35\, 51)\; font-family: Lato\, Helvetica\, Arial\; font-size: 14px\;" />\n<span style="color: rgb(35\, 35\, 51)\; font-family: Lato\, Helvetica\, Arial\; font-size: 14px\;">&bull\; Should I partner with others to make my business a reality?</span><br style="box-sizing: border-box\; color: rgb(35\, 35\, 51)\; font-family: Lato\, Helvetica\, Arial\; font-size: 14px\;" />\n<span style="color: rgb(35\, 35\, 51)\; font-family: Lato\, Helvetica\, Arial\; font-size: 14px\;">&bull\; How do I market to my customers?</span><br style="box-sizing: border-box\; color: rgb(35\, 35\, 51)\; font-family: Lato\, Helvetica\, Arial\; font-size: 14px\;" />\n<br style="box-sizing: border-box\; color: rgb(35\, 35\, 51)\; font-family: Lato\, Helvetica\, Arial\; font-size: 14px\;" />\n<span style="color: rgb(35\, 35\, 51)\; font-family: Lato\, Helvetica\, Arial\; font-size: 14px\;">Or questions for economic development professionals as they assess:</span><br style="box-sizing: border-box\; color: rgb(35\, 35\, 51)\; font-family: Lato\, Helvetica\, Arial\; font-size: 14px\;" />\n<span style="color: rgb(35\, 35\, 51)\; font-family: Lato\, Helvetica\, Arial\; font-size: 14px\;">&bull\; Supply Chain opportunities for business recruitment and development</span><br style="box-sizing: border-box\; color: rgb(35\, 35\, 51)\; font-family: Lato\, Helvetica\, Arial\; font-size: 14px\;" />\n<span style="color: rgb(35\, 35\, 51)\; font-family: Lato\, Helvetica\, Arial\; font-size: 14px\;">&bull\; Workforce commuting patterns</span><br style="box-sizing: border-box\; color: rgb(35\, 35\, 51)\; font-family: Lato\, Helvetica\, Arial\; font-size: 14px\;" />\n<span style="color: rgb(35\, 35\, 51)\; font-family: Lato\, Helvetica\, Arial\; font-size: 14px\;">&bull\; Wage rates and labor pool availability for specific industries</span>
LOCATION:Register via Zoom at https://us02web.zoom.us/meeting/register/tZEvceGvqjovH9PUo945nuiYzEgcbuFHxs5J
UID:e.845.17797
SEQUENCE:3
DTSTAMP:20260419T234844Z
URL:https://business.halifaxchamber.net/events/details/business-an-economic-research-tools-at-longwood-17797
END:VEVENT

END:VCALENDAR
