BEGIN:VCALENDAR
VERSION:2.0
PRODID:-//ChamberMaster//Event Calendar 2.0//EN
METHOD:PUBLISH
X-PUBLISHED-TTL:P3D
REFRESH-INTERVAL:P3D
CALSCALE:GREGORIAN
BEGIN:VEVENT
DTSTART:20161103T213000Z
DTEND:20161103T230000Z
X-MICROSOFT-CDO-ALLDAYEVENT:FALSE
SUMMARY:Business Expo - VIP Night
DESCRIPTION:Chamber members are invited to attend our Business Expo VIP Night\, November 3\, 2016\, 5:30 - 7:00 pm. Network with other Chamber members and learn about the products and services they offer. This event is sponsored by AmeriStaff\, Gateway Health Alliance\, and Halifax PHO.
X-ALT-DESC;FMTTYPE=text/html:Chamber members are invited to attend our Business Expo VIP Night\, November 3\, 2016\, 5:30 - 7:00 pm.&nbsp\;Network with other Chamber members and learn about the products and services they offer. This event is sponsored by AmeriStaff\, Gateway Health Alliance\, and Halifax PHO.
LOCATION:The Prizery 700 Bruce Street South Boston\, VA 24592
UID:e.845.5726
SEQUENCE:3
DTSTAMP:20260424T193413Z
URL:https://business.halifaxchamber.net/events/details/business-expo-vip-night-5726
END:VEVENT

END:VCALENDAR
